BEGIN:VCALENDAR
VERSION:2.0
PRODID:-//Nederlandse Vereniging Luxemburg - ECPv5.9.1//NONSGML v1.0//EN
CALSCALE:GREGORIAN
METHOD:PUBLISH
X-WR-CALNAME:Nederlandse Vereniging Luxemburg
X-ORIGINAL-URL:https://nvl.lu
X-WR-CALDESC:Evenementen voor Nederlandse Vereniging Luxemburg
BEGIN:VTIMEZONE
TZID:Europe/Luxembourg
BEGIN:DAYLIGHT
TZOFFSETFROM:+0100
TZOFFSETTO:+0200
TZNAME:CEST
DTSTART:20210328T010000
END:DAYLIGHT
BEGIN:STANDARD
TZOFFSETFROM:+0200
TZOFFSETTO:+0100
TZNAME:CET
DTSTART:20211031T010000
END:STANDARD
END:VTIMEZONE
BEGIN:VEVENT
DTSTART;VALUE=DATE:20210816
DTEND;VALUE=DATE:20210821
DTSTAMP:20211008T101716
CREATED:20210217T191325Z
LAST-MODIFIED:20210218T102735Z
UID:5110-1629072000-1629503999@nvl.lu
SUMMARY:Vakantieweek NTC 2021
DESCRIPTION:16 tot en met 20 augustus in Strassen \nHet NTC Luxemburg organiseert ieder jaar een gezellige week vol sportieve en leerzame activiteiten voor kinderen van 4 tot en met 12 jaar oud. Het thema van dit jaar is: KUNSTENMAKERS. We hebben al een heleboel leuke activiteiten in petto om invulling te geven aan dit thema. \nWe stemmen het aanbod van de activiteiten af op de leeftijd van de kinderen zodat we iedereen een uitdagend programma kunnen bieden. Dit alles in een ongedwongen setting. We stimuleren de kinderen\, maar we houden rekening met hun wensen en capaciteiten. Uitgebreide informatie over de vakantieweek vindt u  hier \, Leest u dit alstublieft eerst goed door\, mocht u daarna nog vragen hebben\, dan kunt u contact opnemen met Jojanneke de Jong\, coördinator NTC Luxemburg. \nU kunt uw kind (eren) inschrijven door op deze link te klikken:  Inschrijving vakantieweek
URL:https://nvl.lu/evenement/vakantieweek-ntc-2021/
CATEGORIES:Extern
ATTACH;FMTTYPE=image/jpeg:https://nvl.lu/wp-content/uploads/2021/02/VAKANTIEWEEK.jpg
ORGANIZER;CN="Coordinator%20NTC":MAILTO:coordinator@ntc.lu
END:VEVENT
BEGIN:VEVENT
DTSTART;TZID=Europe/Luxembourg:20210818T183000
DTEND;TZID=Europe/Luxembourg:20210818T210000
DTSTAMP:20211008T101716
CREATED:20210727T113114Z
LAST-MODIFIED:20210727T113114Z
UID:5213-1629311400-1629320400@nvl.lu
SUMMARY:Jeu de Boules avond 2021
DESCRIPTION:Save the Date! \nOp woensdagavond 18 augustus organiseren we een avondje jeu de boules bij Kyosk in het park op Kirchberg naast d’Coque. Details volgen!
URL:https://nvl.lu/evenement/jeu-de-boules-avond-2021/
LOCATION:Kyosk\, 10 Rue Léon Hengen\, Luxemburg\, 1745\, Luxemburg
CATEGORIES:NVL
ATTACH;FMTTYPE=image/jpeg:https://nvl.lu/wp-content/uploads/2020/08/Jeu-de-boules.jpg
ORGANIZER;CN="Sanne%20van%20den%20Oord-Boersma":MAILTO:contact@nvl.lu
END:VEVENT
BEGIN:VEVENT
DTSTART;TZID=Europe/Luxembourg:20210905T143000
DTEND;TZID=Europe/Luxembourg:20210905T170000
DTSTAMP:20211008T101716
CREATED:20210727T143258Z
LAST-MODIFIED:20210903T191212Z
UID:5215-1630852200-1630861200@nvl.lu
SUMMARY:AFGELAST - Formule 1 Zandvoort
DESCRIPTION:Let op! Helaas hebben we wegens te weinig aanmeldingen besloten dit evenement te annuleren. \nKom samen met ons kijken naar de prestaties van Max Verstappen op het Circuit van Zandvoort op zondag 5 september. Wees welkom vanaf 14.30 uur bij Oscars in de Grund (Race begint om 15.00 uur). \nWe vragen voor dit evenement een eigen bijdrage van EUR 5 per persoon. Dit is inclusief drankjes en bitterballen tijdens de wedstrijd en is alleen geldig voor leden van de NVL. \nSchrijf je uiterlijk vrijdag 3 september in door een email te sturen naar contact@nvl.lu en vermeld daarin je naam en het aantal personen.  De eigen bijdrage kan je overmaken naar IBAN nummer LU51 0030 3121 9078 0000 en BIC BGLL LULL onder vermelding van “Formule 1 café + je naam”. \nTot dan!
URL:https://nvl.lu/evenement/formule-1-zandvoort/
LOCATION:Oscar’s Bar\, 9\, Bisserweg\, Luxemburg Stad\, Grund\, L-1238\, Luxemburg
CATEGORIES:NVL
ATTACH;FMTTYPE=image/jpeg:https://nvl.lu/wp-content/uploads/2021/07/max-4341611_1280-1.jpg
END:VEVENT
BEGIN:VEVENT
DTSTART;TZID=Europe/Luxembourg:20210912T100000
DTEND;TZID=Europe/Luxembourg:20210912T140000
DTSTAMP:20211008T101716
CREATED:20210729T122833Z
LAST-MODIFIED:20210830T143530Z
UID:5221-1631440800-1631455200@nvl.lu
SUMMARY:Familiedag 2021
DESCRIPTION:Het is weer tijd voor een leuke dag voor de jaarlijkse familiedag! We mogen dit jaar op zondag 12 september wederom te gast zijn bij Parc Merveilleux in Bettembourg. \nVanaf 10.00 uur staat de koffie en limonade met iets lekkers klaar op het terras van het Paviljoen. Waarna een speurtocht ons voert langs alle leuke plekken van het park. Wees op tijd want om 10.45 beginnen we met het programma! \nDe eigen bijdrage voor dit evenement zijn € 10 voor volwassenen en € 5 voor kinderen van 3 t/m 12 jaar. Kinderen onder de 3 jaar zijn gratis. Dit is voor de hele dag inclusief entree tot het park\, welkomst koffie en de lunch. \nInschijven kan door een email te sturen naar contact@nvl.lu en de eigen bijdrage over te maken op IBAN nummer LU51 0030 3121 9078 0000 en BIC BGLL LULL onder vermelding van “zomerfeest + je naam”. De deadline om in te schrijven is woensdag 8 september. Na inschrijving krijgen deelnemers meer informatie omtrent entree tot het park etc. \nWij kijken er naar uit om onze jongste leden daar te mogen begroeten!
URL:https://nvl.lu/evenement/familiedag-2021/
LOCATION:Parc Merveilleux\, Route de Mondorf\, Bettembourg.\, L-3260\, Luxemburg
CATEGORIES:NVL
ATTACH;FMTTYPE=image/png:https://nvl.lu/wp-content/uploads/2021/07/family-1251320_1280.png
ORGANIZER;CN="Jojanneke%20de%20Jong":MAILTO:contact@nvl.lu
END:VEVENT
BEGIN:VEVENT
DTSTART;TZID=Europe/Luxembourg:20211004T190000
DTEND;TZID=Europe/Luxembourg:20211004T210000
DTSTAMP:20211008T101716
CREATED:20210825T185126Z
LAST-MODIFIED:20210929T113106Z
UID:5228-1633374000-1633381200@nvl.lu
SUMMARY:Haringborrel 2021
DESCRIPTION:“Er daagt ontzet op!”  ( 1574 ) \nZoals gebruikelijk gaan we\, voor NVL leden\, op maandag 4 oktober “Het Leidens Ontzet” herdenken en vieren\, middels de befaamde Haringborrel. \nWe mogen dit jaar van de gastvrijheid van onze Nederlandse Ambassadeur gebruik maken en op Residentie Bricherhaff samenkomen\, onder de gebruikelijke Covid-19 regels. Aan de ingang wordt uw volledige vaccinatie\, negatieve test of herstel van Covid-19 middels de COVID.check.lu  gecontroleerd. Dus deze graag meenemen\, samen met een geldig ID bewijs\, om teleurstelling te voorkomen. \nHet maximale aantal deelnemers is in overleg met de autoriteiten op 70 personen vastgesteld. Haast u dus met de verplichte vooraanmelding door een email te sturen naar contact@nvl.lu voor vrijdag 1 oktober. \nLOCATIE:\nResidentie “Bricherhaff”\n138\, Rue des Muguets\nL-2167 Luxemburg \nTIJD:\n19.00 – 21.00 uur \nTOT SPOEDIG de korenwijn staan ijskoud\, zoals ook de gesneden haring! \nNVL Bestuur
URL:https://nvl.lu/evenement/haringborrel-2021/
LOCATION:Residentie ‘Bricherhaff’\, 138\, Rue des Muguets\, Weimershof\, Luxembourg City\, L- 2167
CATEGORIES:NVL
ATTACH;FMTTYPE=image/jpeg:https://nvl.lu/wp-content/uploads/2017/06/Haring2.jpg
ORGANIZER;CN="Luc%20Vrouenraets":MAILTO:contact@nvl.lu
END:VEVENT
BEGIN:VEVENT
DTSTART;TZID=Europe/Luxembourg:20211114T100000
DTEND;TZID=Europe/Luxembourg:20211114T170000
DTSTAMP:20211008T101716
CREATED:20210727T143635Z
LAST-MODIFIED:20210727T143635Z
UID:5218-1636884000-1636909200@nvl.lu
SUMMARY:Sinterklaasintocht 2021
DESCRIPTION:Save the Date! \nOok dit jaar gaan wij weer proberen iets te organiseren binnen de richtlijnen wat betreft Covid-19. Schrijf de datum alvast op en houd de website/facebook/nieuwsbrief in de gaten.
URL:https://nvl.lu/evenement/sinterklaasintocht-2021/
CATEGORIES:NVL
ATTACH;FMTTYPE=image/jpeg:https://nvl.lu/wp-content/uploads/2018/06/SAM_1677.jpg
END:VEVENT
BEGIN:VEVENT
DTSTART;TZID=Europe/Luxembourg:20211202T180000
DTEND;TZID=Europe/Luxembourg:20211202T200000
DTSTAMP:20211008T101716
CREATED:20210929T113317Z
LAST-MODIFIED:20210929T113317Z
UID:5265-1638468000-1638475200@nvl.lu
SUMMARY:Wijnproeverij 2021
DESCRIPTION:Ook dit jaar organiseren we vlak voor de feestdagen een wijnproeverij\, waar we ook zullen ingaan op lekkere combinaties voor tijdens het kerstdiner. \nMeer information volgt snel\, maar donderdag 2 december kan alvast in de agenda.
URL:https://nvl.lu/evenement/wijnproeverij-2021/
ATTACH;FMTTYPE=image/jpeg:https://nvl.lu/wp-content/uploads/2017/09/wijnproeverij.jpg
END:VEVENT
END:VCALENDAR