BEGIN:VCALENDAR
VERSION:2.0
PRODID:-//Nederlandse Vereniging Luxemburg - ECPv5.9.1//NONSGML v1.0//EN
CALSCALE:GREGORIAN
METHOD:PUBLISH
X-WR-CALNAME:Nederlandse Vereniging Luxemburg
X-ORIGINAL-URL:https://nvl.lu
X-WR-CALDESC:Evenementen voor Nederlandse Vereniging Luxemburg
BEGIN:VTIMEZONE
TZID:Europe/Luxembourg
BEGIN:DAYLIGHT
TZOFFSETFROM:+0100
TZOFFSETTO:+0200
TZNAME:CEST
DTSTART:20210328T010000
END:DAYLIGHT
BEGIN:STANDARD
TZOFFSETFROM:+0200
TZOFFSETTO:+0100
TZNAME:CET
DTSTART:20211031T010000
END:STANDARD
END:VTIMEZONE
BEGIN:VEVENT
DTSTART;TZID=Europe/Luxembourg:20211114T100000
DTEND;TZID=Europe/Luxembourg:20211114T170000
DTSTAMP:20211008T194404
CREATED:20210727T143635Z
LAST-MODIFIED:20210727T143635Z
UID:5218-1636884000-1636909200@nvl.lu
SUMMARY:Sinterklaasintocht 2021
DESCRIPTION:Save the Date! \nOok dit jaar gaan wij weer proberen iets te organiseren binnen de richtlijnen wat betreft Covid-19. Schrijf de datum alvast op en houd de website/facebook/nieuwsbrief in de gaten.
URL:https://nvl.lu/evenement/sinterklaasintocht-2021/
LOCATION:Luxembourg City
CATEGORIES:NVL
ATTACH;FMTTYPE=image/jpeg:https://nvl.lu/wp-content/uploads/2018/06/SAM_1677.jpg
END:VEVENT
END:VCALENDAR