BEGIN:VCALENDAR
VERSION:2.0
PRODID:-//Nederlandse Vereniging Luxemburg - ECPv4.9.14//NONSGML v1.0//EN
CALSCALE:GREGORIAN
METHOD:PUBLISH
X-WR-CALNAME:Nederlandse Vereniging Luxemburg
X-ORIGINAL-URL:https://nvl.lu
X-WR-CALDESC:Events for Nederlandse Vereniging Luxemburg
BEGIN:VTIMEZONE
TZID:UTC
BEGIN:STANDARD
TZOFFSETFROM:+0000
TZOFFSETTO:+0000
TZNAME:UTC
DTSTART:20200101T000000
END:STANDARD
END:VTIMEZONE
BEGIN:VEVENT
DTSTART;TZID=UTC:20200206T190000
DTEND;TZID=UTC:20200206T213000
DTSTAMP:20200125T040623
CREATED:20200119T144041Z
LAST-MODIFIED:20200119T144041Z
UID:4622-1581015600-1581024600@nvl.lu
SUMMARY:NVL Bowling toernooi 2020
DESCRIPTION:Op donderdag 6 februari organiseren we wederom het NVL bowling toernooi! \nWat:                Bowlen met de NVL\nWaar:              Kockelscheuer\n20\, route de Bettembourg\,\nL-1899 Luxembourg\nTijd:                19:00 tot 21:30 \nKosten zijn € 5\,- per persoon\, dit is inclusief 1 uur bowlen\, huur van schoenen\, een frietje met en een drankje. \nSchrijf je in voor een gezellige avond op de bowlingbaan door een e-mail te sturen naar contact@nvl.lu en de eigen bijdrage over te maken op IBAN nummer LU51 0030 3121 9078 0000 en BIC BGLL LULL onder vermelding van “bowling + je naam”. De deadline om in te schrijven is maandag 11 februari in verband met het reserveren van de banen. \nHopelijk tot dan! \n
URL:https://nvl.lu/evenement/nvl-bowling-toernooi-2020/
LOCATION:Bowling Kockelscheuer\, 20 route de Bettembourg\, Luxemburg Stad\, L-1899\, Luxemburg
CATEGORIES:NVL
ATTACH;FMTTYPE=image/jpeg:https://nvl.lu/wp-content/uploads/2017/01/bowlen.jpg
ORGANIZER;CN="Erik%20Schoof":MAILTO:contact@nvl.lu
END:VEVENT
END:VCALENDAR