BEGIN:VCALENDAR
VERSION:2.0
PRODID:-//Nederlandse Vereniging Luxemburg - ECPv4.9.14//NONSGML v1.0//EN
CALSCALE:GREGORIAN
METHOD:PUBLISH
X-WR-CALNAME:Nederlandse Vereniging Luxemburg
X-ORIGINAL-URL:https://nvl.lu
X-WR-CALDESC:Events for Nederlandse Vereniging Luxemburg
BEGIN:VTIMEZONE
TZID:UTC
BEGIN:STANDARD
TZOFFSETFROM:+0000
TZOFFSETTO:+0000
TZNAME:UTC
DTSTART:20200101T000000
END:STANDARD
END:VTIMEZONE
BEGIN:VEVENT
DTSTART;TZID=UTC:20200115T190000
DTEND;TZID=UTC:20200115T230000
DTSTAMP:20200123T112759
CREATED:20191115T181303Z
LAST-MODIFIED:20191115T181303Z
UID:4541-1579114800-1579129200@nvl.lu
SUMMARY:Nieuwjaarsborrel 2020
DESCRIPTION:Save the Date! \nZet de datum alvast in je agenda. Op woensdag 15 januari 2020 houdt de NVL haar nieuwjaarsborrel. Dit jaar zijn we bij Knokke Out in Clausen. \nMeer details volgen. \n
URL:https://nvl.lu/evenement/nieuwjaarsborrel-2020/
LOCATION:Knokke Out\, 15 Rives de Clausen\, Luxemburg\, L-2165\, Luxemburg
CATEGORIES:NVL
ATTACH;FMTTYPE=image/jpeg:https://nvl.lu/wp-content/uploads/2017/06/Champagne-kurk.jpg
END:VEVENT
END:VCALENDAR