BEGIN:VCALENDAR
VERSION:2.0
PRODID:-//Nederlandse Vereniging Luxemburg - ECPv6.15.20//NONSGML v1.0//EN
CALSCALE:GREGORIAN
METHOD:PUBLISH
X-ORIGINAL-URL:https://nvl.lu
X-WR-CALDESC:Evenementen voor Nederlandse Vereniging Luxemburg
REFRESH-INTERVAL;VALUE=DURATION:PT1H
X-Robots-Tag:noindex
X-PUBLISHED-TTL:PT1H
BEGIN:VTIMEZONE
TZID:Europe/Luxembourg
BEGIN:DAYLIGHT
TZOFFSETFROM:+0100
TZOFFSETTO:+0200
TZNAME:CEST
DTSTART:20240331T010000
END:DAYLIGHT
BEGIN:STANDARD
TZOFFSETFROM:+0200
TZOFFSETTO:+0100
TZNAME:CET
DTSTART:20241027T010000
END:STANDARD
BEGIN:DAYLIGHT
TZOFFSETFROM:+0100
TZOFFSETTO:+0200
TZNAME:CEST
DTSTART:20250330T010000
END:DAYLIGHT
BEGIN:STANDARD
TZOFFSETFROM:+0200
TZOFFSETTO:+0100
TZNAME:CET
DTSTART:20251026T010000
END:STANDARD
BEGIN:DAYLIGHT
TZOFFSETFROM:+0100
TZOFFSETTO:+0200
TZNAME:CEST
DTSTART:20260329T010000
END:DAYLIGHT
BEGIN:STANDARD
TZOFFSETFROM:+0200
TZOFFSETTO:+0100
TZNAME:CET
DTSTART:20261025T010000
END:STANDARD
END:VTIMEZONE
BEGIN:VEVENT
DTSTART;TZID=Europe/Luxembourg:20250201T103000
DTEND;TZID=Europe/Luxembourg:20250201T113000
DTSTAMP:20260426T022053
CREATED:20250108T104543Z
LAST-MODIFIED:20250109T180814Z
UID:6218-1738405800-1738409400@nvl.lu
SUMMARY:VOORLEESOCHTEND
DESCRIPTION:De jeugdbibliotheek nodigt jullie graag uit voor een voorleesochtend in het kader van de Nationale Voorleesdagen in Nederland\nop zaterdag 1 februari 2025 van 10:30 tot 11:30 in de jeugdbibliotheek.\nZij lezen voor uit boeken van de Prentenboek Top 10 van 2025. \nDe doelgroep voor de voorleesochtend zijn kinderen van 3 t/m 7 jaar\, maar jongere en oudere kinderen zijn uiteraard ook welkom. \nBoeken terugbrengen en uitlenen kan dan pas na het voorlezen\, dus vanaf ca. 11:30. \nAanmelden voor de voorleesochtend en het uitlenen daarna kan uiterlijk tot 29 januari via mail nedjeugdbibliotheek@gmail.com
URL:https://nvl.lu/evenement/voorleesochtend-2/
LOCATION:Jeugdbibliotheek\, 23\, rue Vauban\, Luxemburg-Pfaffenthal\, Luxemburg
CATEGORIES:Extern
ATTACH;FMTTYPE=image/png:https://nvl.lu/wp-content/uploads/2023/09/kinderboekenweek2023.png
ORGANIZER;CN="Jeugdbibliotheek":MAILTO:nedjeugdbibliotheek@gmail.com
END:VEVENT
END:VCALENDAR