BEGIN:VCALENDAR
VERSION:2.0
PRODID:-//Nederlandse Vereniging Luxemburg - ECPv6.15.20//NONSGML v1.0//EN
CALSCALE:GREGORIAN
METHOD:PUBLISH
X-ORIGINAL-URL:https://nvl.lu
X-WR-CALDESC:Evenementen voor Nederlandse Vereniging Luxemburg
REFRESH-INTERVAL;VALUE=DURATION:PT1H
X-Robots-Tag:noindex
X-PUBLISHED-TTL:PT1H
BEGIN:VTIMEZONE
TZID:Europe/Luxembourg
BEGIN:DAYLIGHT
TZOFFSETFROM:+0100
TZOFFSETTO:+0200
TZNAME:CEST
DTSTART:20240331T010000
END:DAYLIGHT
BEGIN:STANDARD
TZOFFSETFROM:+0200
TZOFFSETTO:+0100
TZNAME:CET
DTSTART:20241027T010000
END:STANDARD
BEGIN:DAYLIGHT
TZOFFSETFROM:+0100
TZOFFSETTO:+0200
TZNAME:CEST
DTSTART:20250330T010000
END:DAYLIGHT
BEGIN:STANDARD
TZOFFSETFROM:+0200
TZOFFSETTO:+0100
TZNAME:CET
DTSTART:20251026T010000
END:STANDARD
BEGIN:DAYLIGHT
TZOFFSETFROM:+0100
TZOFFSETTO:+0200
TZNAME:CEST
DTSTART:20260329T010000
END:DAYLIGHT
BEGIN:STANDARD
TZOFFSETFROM:+0200
TZOFFSETTO:+0100
TZNAME:CET
DTSTART:20261025T010000
END:STANDARD
END:VTIMEZONE
BEGIN:VEVENT
DTSTART;TZID=Europe/Luxembourg:20250618T183000
DTEND;TZID=Europe/Luxembourg:20250618T220000
DTSTAMP:20260425T183650
CREATED:20250407T143404Z
LAST-MODIFIED:20250528T094656Z
UID:6216-1750271400-1750284000@nvl.lu
SUMMARY:BITTERBALLEN BORREL
DESCRIPTION:Met de zomer in het vooruitzicht is het weer tijd voor een volgende bitterballen borrel.  . \nDe Bitterballen borrel in Luxemburg\, al jaren het maandelijkse netwerkevent waar je als Nederlandstalige in Luxemburg bij aanwezig moet zijn.\nContact onderhouden in een ongedwongen sfeer\, goed voor je netwerk en voor het onderhouden van je taalgevoel. Geen verplichtingen\, je mag zelfs de bitterbal overslaan!
URL:https://nvl.lu/evenement/bitterballen-borrel-3/
LOCATION:Oscar’s Bar\, 9\, Bisserweg\, Luxemburg Stad\, Grund\, L-1238\, Luxemburg
CATEGORIES:Extern
ATTACH;FMTTYPE=image/jpeg:https://nvl.lu/wp-content/uploads/2024/10/bitterballen-e1730119667768.jpg
END:VEVENT
BEGIN:VEVENT
DTSTART;TZID=Europe/Luxembourg:20250618T200000
DTEND;TZID=Europe/Luxembourg:20250620T170000
DTSTAMP:20260425T183650
CREATED:20250130T124348Z
LAST-MODIFIED:20250320T151440Z
UID:6275-1750276800-1750438800@nvl.lu
SUMMARY:NEDERLANDS DANS THEATER - FIGURES IN EXTINCTION
DESCRIPTION:Figures in Extinction is het derde en laatste werk in het drieluik van samenwerkingen tussen NDT-associate choreograaf Crystal Pite en de bekroonde Complicité-theaterregisseur Simon McBurney (voor het laatst te zien in de Théâtres de la Ville in 2023 met Drive Your Plough Over the Bones of the Dood ).\nDeel één\, waarmee de Nederlandse Dansprijs 2022 voor meest indrukwekkende dansproductie werd gewonnen\, ging over de klimaatcrisis en het uitsterven van honderden diersoorten.\nDeel twee projecteerde een beeld van mensen die van zichzelf vervreemd waren. \nIn het derde en laatste deel gaan Pite en McBurney verder met het verkennen van de zelfgemengde\, giftige cocktail die hoort bij het tijdperk waarin we leven\,\nwaarin we zowel daders als slachtoffers zijn. De theatrale helderheid van McBurney gecombineerd met de scherpe bewegingstaal van Pite creëert een empathisch\, adembenemend werk van contemplatie\,\nwaar angsten en aspiraties naar boven komen en een sprankje in de somberheid geven van waar we mogelijk naartoe gaan.
URL:https://nvl.lu/evenement/nederlands-dans-theater/
CATEGORIES:Extern
ATTACH;FMTTYPE=image/jpeg:https://nvl.lu/wp-content/uploads/2025/01/NDT.jpg
END:VEVENT
END:VCALENDAR