BEGIN:VCALENDAR
VERSION:2.0
PRODID:-//Nederlandse Vereniging Luxemburg - ECPv6.15.20//NONSGML v1.0//EN
CALSCALE:GREGORIAN
METHOD:PUBLISH
X-WR-CALNAME:Nederlandse Vereniging Luxemburg
X-ORIGINAL-URL:https://nvl.lu
X-WR-CALDESC:Evenementen voor Nederlandse Vereniging Luxemburg
REFRESH-INTERVAL;VALUE=DURATION:PT1H
X-Robots-Tag:noindex
X-PUBLISHED-TTL:PT1H
BEGIN:VTIMEZONE
TZID:Europe/Luxembourg
BEGIN:DAYLIGHT
TZOFFSETFROM:+0100
TZOFFSETTO:+0200
TZNAME:CEST
DTSTART:20240331T010000
END:DAYLIGHT
BEGIN:STANDARD
TZOFFSETFROM:+0200
TZOFFSETTO:+0100
TZNAME:CET
DTSTART:20241027T010000
END:STANDARD
BEGIN:DAYLIGHT
TZOFFSETFROM:+0100
TZOFFSETTO:+0200
TZNAME:CEST
DTSTART:20250330T010000
END:DAYLIGHT
BEGIN:STANDARD
TZOFFSETFROM:+0200
TZOFFSETTO:+0100
TZNAME:CET
DTSTART:20251026T010000
END:STANDARD
BEGIN:DAYLIGHT
TZOFFSETFROM:+0100
TZOFFSETTO:+0200
TZNAME:CEST
DTSTART:20260329T010000
END:DAYLIGHT
BEGIN:STANDARD
TZOFFSETFROM:+0200
TZOFFSETTO:+0100
TZNAME:CET
DTSTART:20261025T010000
END:STANDARD
END:VTIMEZONE
BEGIN:VEVENT
DTSTART;TZID=Europe/Luxembourg:20250424T163000
DTEND;TZID=Europe/Luxembourg:20250424T193000
DTSTAMP:20260425T213416
CREATED:20250407T140705Z
LAST-MODIFIED:20250408T170337Z
UID:6384-1745512200-1745523000@nvl.lu
SUMMARY:KONINGSDAG RECEPTIE 2025
DESCRIPTION:Ambassadeur Carin Lobbezoo\n&\nDhr. Jan de Boer \nhebben het genoegen u uit te nodigen voor de Koningsdagreceptie\nop donderdag 24 april 2025 van 16:30-19:30 \nNederlandse Residentie “Bricherhaff”\n138\, rue des Muguets | Luxemburg\nTramhalte: Bibliothèque Nationale \n  \nRSVP voor 17 april 2025 op email: LUX-KINGSDAY@minbuza.nl
URL:https://nvl.lu/evenement/koningsdagreceptie-2025/
LOCATION:Residentie ‘Bricherhaff’\, 138\, Rue des Muguets\, Weimershof\, Luxembourg City\, L- 2167
CATEGORIES:Extern,Nederlandse Ambassade
ATTACH;FMTTYPE=image/jpeg:https://nvl.lu/wp-content/uploads/2025/04/koningsdag1.jpg
END:VEVENT
BEGIN:VEVENT
DTSTART;TZID=Europe/Luxembourg:20250426T200000
DTEND;TZID=Europe/Luxembourg:20250426T230000
DTSTAMP:20260425T213416
CREATED:20250128T143515Z
LAST-MODIFIED:20250128T143515Z
UID:6268-1745697600-1745708400@nvl.lu
SUMMARY:LOOKING WITHIN
DESCRIPTION:Ter gelegenheid van de 45ste verjaardag van de Vlaamse Club Luxemburg\, organiseren onze collega’s een adembenemende avond vol muziekale verbeelding en emotie. \nZij doen dat samen met het Brussels Jazz Orchestra met accordeonvituoos Philippe Thuriot.\nMeer informatie en kaarten voor dit evenement\, vindt u op de website van de Vlaamse Club.
URL:https://nvl.lu/evenement/looking-within/
LOCATION:Eglise\, Saint-Hunbert\, Bridel
CATEGORIES:Extern
ATTACH;FMTTYPE=image/jpeg:https://nvl.lu/wp-content/uploads/2025/01/BJOrkest-e1738074841613.jpg
ORGANIZER;CN="Vlaamse Club":MAILTO:info@vlaamseclub.lu
END:VEVENT
END:VCALENDAR