BEGIN:VCALENDAR
VERSION:2.0
PRODID:-//Nederlandse Vereniging Luxemburg - ECPv6.15.20//NONSGML v1.0//EN
CALSCALE:GREGORIAN
METHOD:PUBLISH
X-ORIGINAL-URL:https://nvl.lu
X-WR-CALDESC:Evenementen voor Nederlandse Vereniging Luxemburg
REFRESH-INTERVAL;VALUE=DURATION:PT1H
X-Robots-Tag:noindex
X-PUBLISHED-TTL:PT1H
BEGIN:VTIMEZONE
TZID:Europe/Luxembourg
BEGIN:DAYLIGHT
TZOFFSETFROM:+0100
TZOFFSETTO:+0200
TZNAME:CEST
DTSTART:20230326T010000
END:DAYLIGHT
BEGIN:STANDARD
TZOFFSETFROM:+0200
TZOFFSETTO:+0100
TZNAME:CET
DTSTART:20231029T010000
END:STANDARD
BEGIN:DAYLIGHT
TZOFFSETFROM:+0100
TZOFFSETTO:+0200
TZNAME:CEST
DTSTART:20240331T010000
END:DAYLIGHT
BEGIN:STANDARD
TZOFFSETFROM:+0200
TZOFFSETTO:+0100
TZNAME:CET
DTSTART:20241027T010000
END:STANDARD
BEGIN:DAYLIGHT
TZOFFSETFROM:+0100
TZOFFSETTO:+0200
TZNAME:CEST
DTSTART:20250330T010000
END:DAYLIGHT
BEGIN:STANDARD
TZOFFSETFROM:+0200
TZOFFSETTO:+0100
TZNAME:CET
DTSTART:20251026T010000
END:STANDARD
END:VTIMEZONE
BEGIN:VEVENT
DTSTART;TZID=Europe/Luxembourg:20241115T180000
DTEND;TZID=Europe/Luxembourg:20241117T180000
DTSTAMP:20260426T045335
CREATED:20241025T130533Z
LAST-MODIFIED:20241025T130612Z
UID:6048-1731693600-1731866400@nvl.lu
SUMMARY:Bazar International
DESCRIPTION:
URL:https://nvl.lu/evenement/international-bazar/
LOCATION:Luxexpo\, 10 Circuit de La Foire Internationale\,\, Luxembourg City\, L-1347
CATEGORIES:Extern,Luxemburg
ATTACH;FMTTYPE=image/jpeg:https://nvl.lu/wp-content/uploads/2024/10/Bazar-2024-e1729861485737.jpg
END:VEVENT
BEGIN:VEVENT
DTSTART;TZID=Europe/Luxembourg:20241120T183000
DTEND;TZID=Europe/Luxembourg:20241120T230000
DTSTAMP:20260426T045335
CREATED:20241028T125012Z
LAST-MODIFIED:20241028T125012Z
UID:6055-1732127400-1732143600@nvl.lu
SUMMARY:Bitterballen Borrel
DESCRIPTION:Op 20 november organiseerd Leon zijn laatste Bitterballen Borrel van 2024. \nDe Bitterballen borrel in Luxemburg\, al jaren het maandelijkse netwerk event waar je als Nederlandstalige in Luxemburg bij aanwezig moet zijn. Contact onderhouden in een ongedwongen sfeer\, goed voor je netwerk en voor het onderhouden van je taal gevoel. Geen verplichtingen\, je mag zelfs de bitterbal overslaan! \nLet op: Aanmelding is niet nodig.\n\n\n\n\n\n\n\n\n\n\n\n 
URL:https://nvl.lu/evenement/bitterballen-borrel-2/
LOCATION:Oscar’s Bar\, 9\, Bisserweg\, Luxemburg Stad\, Grund\, L-1238\, Luxemburg
CATEGORIES:Extern,Luxemburg
ATTACH;FMTTYPE=image/jpeg:https://nvl.lu/wp-content/uploads/2024/10/bitterballen-e1730119667768.jpg
END:VEVENT
BEGIN:VEVENT
DTSTART;TZID=Europe/Luxembourg:20241121T190000
DTEND;TZID=Europe/Luxembourg:20241121T230000
DTSTAMP:20260426T045335
CREATED:20241110T110917Z
LAST-MODIFIED:20241110T110917Z
UID:6086-1732215600-1732230000@nvl.lu
SUMMARY:Orde van den Prince - Philip Dröge
DESCRIPTION:De Luxemburgse afdeling van de Orde van den Prince nodigt jullie uit voor een lezing met de Nederlandse schrijver en journalist Philip Dröge\, die zal plaatsvinden op donderdag 21 november. Hij zal het over een heel bijzonder onderwerp hebben\, nl. het minilandje Moresnet. \nVan 1816 tot 1920 lag aan de Nederlandse zuidgrens\, dicht bij het drielandenpunt België-Nederland-Duitsland\, een eigenaardig minilandje. Het ontstond per ongeluk\, maar toch begonnen de paar honderd inwoners zich na een paar jaar een echt volk te voelen. \nPhilip Dröge gaat in zijn boek Moresnet\, opkomst en ondergang van een vergeten buurlandje\, en dus ook in deze lezing\, op zoek naar het merkwaardige verhaal achter dit ongelukje van de geschiedenis. Het is een boeiend verhaal over dieven\, gokkers\, smokkelaars\, mijnwerkers en een dromer die van Moresnet de ideale samenleving wilde maken\, en daar bijna in slaagde… \nZie ook www.philipdroge.nl. \nBijzonder: de Taalboekenprijs 2024 van het genootschap Onze Taal is enkele weken geleden toegekend aan Philip Dröge\, een mooie erkenning voor onze spreker! \nEen boeiende spreker over een origineel onderwerp\, dat lijdt geen twijfel! Deze bijzondere avond vindt plaats in het Grand Salon van het restaurant L’Ultimo in Mamer (route d’Arlon 83). \nDe formule: aperitief\, maaltijd (2 gangen)\, koffie\, lezing en nabespreking\, tegen de aantrekkelijke prijs van 70 euro. \nInschrijven kan via mail naar ovdp.lux@gmail.com met vermelding van je naam en ‘lezing 21 nov’. Graag inschrijven vóor vrijdag 15 november e.k. \nOpgepast\, je inschrijving is pas definitief na betaling van 70 euro per persoon op \nLU65 0030 6973 7682 1000 op naam van Orde van den Prince – afdeling Luxemburg. \n 
URL:https://nvl.lu/evenement/orde-van-den-prince-philip-droge/
LOCATION:Restaurant L´Ultimo\, Route d´Arlon 83\, Mamer\, Luxembourg
CATEGORIES:Extern
ATTACH;FMTTYPE=image/png:https://nvl.lu/wp-content/uploads/2024/11/Moresnest.png
ORGANIZER;CN="De Orde van den Prince%2C afdeling Luxemburg%2C en Vlamingen in de Wereld (VIW)":MAILTO:ovdp.lux@gmail.com
END:VEVENT
BEGIN:VEVENT
DTSTART;TZID=Europe/Luxembourg:20241122T180000
DTEND;TZID=Europe/Luxembourg:20241231T220000
DTSTAMP:20260426T045335
CREATED:20241122T161320Z
LAST-MODIFIED:20241122T161320Z
UID:6123-1732298400-1735682400@nvl.lu
SUMMARY:WINTERLIGHTS
DESCRIPTION:Dompel jezelf onder in de magie van Kerstmis met “Winterlights” in Luxemburg!  \nOntdek een betoverend programma vol festiviteiten en entertainment. Naarmate de feestdagen dichterbij komen\, verandert de stad Luxemburg in een winterwonderland dat haar bezoekers onderdompelt in het hart van de kerstmagie. In deze context kondigt het Luxembourg City Tourist Office elk jaar met genoegen het programma “Winterlights” aan. Het programma bestaat onder meer uit kerstmarkten\, vrijetijdsactiviteiten\, muziek\, tentoonstellingen\, theater\, winkelen en vele andere culturele en toeristische activiteiten\, die allemaal plaatsvinden in de stad Luxemburg. “Winterlights” is het resultaat van een goede samenwerking tussen de verschillende actoren van de hoofdstad\, institutionele partners\, zoals de stad Luxemburg. De kerstmarkten bieden een gevarieerd programma van activiteiten en concerten voor jong en oud.  \nMeer informatie: winterlights.vdl.lu \nDit is een evenement van de stad Luxembourg.
URL:https://nvl.lu/evenement/winterlights/
CATEGORIES:Extern,Luxemburg
ATTACH;FMTTYPE=image/jpeg:https://nvl.lu/wp-content/uploads/2024/11/winter.jpg
END:VEVENT
BEGIN:VEVENT
DTSTART;TZID=Europe/Luxembourg:20241126T193000
DTEND;TZID=Europe/Luxembourg:20241126T230000
DTSTAMP:20260426T045335
CREATED:20241025T125358Z
LAST-MODIFIED:20241029T121213Z
UID:6043-1732649400-1732662000@nvl.lu
SUMMARY:Cleveringa Avond
DESCRIPTION:Het Luxemburgse Comité van Leidse Reünisten organiseert de traditionele Cleveringabijeenkomst dit jaar op \ndinsdag 26 november a.s.  in de Résidence van de Nederlandse ambassadeur:  ‘Bricherhaff’: 138\, rue des Muguets\, Luxembourg. \n  \nOnze Nederlandse ambassadeur\, mevrouw Lobbezoo\, is zo vriendelijk haar residentie ter beschikking te stellen voor deze avond. \nZoals te doen gebruikelijk begint de avond om 19.30 uur met koffie. \n  \nOnze spreker dit jaar is  Prof. Dr. Ignas Snellen\, hoogleraar Observationele Astrofysica aan de Universiteit Leiden. \n  \nDe titel van zijn lezing is: ‘Exoplaneten en de zoektocht naar buitenaards leven’. \nEr is een ware revolutie gaande in de sterrenkunde. Naast de planeten in ons eigen zonnestelsel kunnen astronomen nu werelden onderzoeken rondom andere sterren. \nEr zijn er al duizenden ontdekt. Sommigen daarvan lijken op onze eigen aarde. \nHoe zou zo’n planeet er uit kunnen zien? Is er een dampkring? Is er water? \nIn deze lezing leren we wat we in de stroomversnelling van wetenschappelijk onderzoek al te weten zijn gekomen. \nEn hoe we in de nabije toekomst de meest belangrijke vraag kunnen gaan beantwoorden: zijn wij alleen in het heelal? \n  \nDe entrée voor de bijeenkomst is gratis \n  \nVoor aanmelding gaarne vòòr 15 november a.s. een e-mail sturen naar: terweer@pt.lu \nMet vriendelijke groet\, namens het Comité van Leidse Reünisten in Luxemburg\, \nAldert ter Weer
URL:https://nvl.lu/evenement/cleveringa-avond/
LOCATION:Residentie ‘Bricherhaff’\, 138\, Rue des Muguets\, Weimershof\, Luxembourg City\, L- 2167
CATEGORIES:Extern,Luxemburg
ATTACH;FMTTYPE=image/jpeg:https://nvl.lu/wp-content/uploads/2024/10/galaxy-night-panorama-scaled-e1729860773587.jpg
END:VEVENT
BEGIN:VEVENT
DTSTART;TZID=Europe/Luxembourg:20241128T183000
DTEND;TZID=Europe/Luxembourg:20241128T230000
DTSTAMP:20260426T045335
CREATED:20241107T080021Z
LAST-MODIFIED:20241107T083825Z
UID:6075-1732818600-1732834800@nvl.lu
SUMMARY:NHF - Dr. Professor Rolf Tarrach
DESCRIPTION:Het Nederlands Handelsforum nodigt u uit voor de presentatie door Dr. Professor Rolf Tarrach.\nRolf Tarrach is een Spaanse natuurkundige van Duitse afkomst.\nVanaf 1 januari 2005 tot 31 december 2014 was hij rector aan de universiteit van Luxembourg.\nSinds 1 juli 2015 is hij voorzitter van de European University Association (EUA)\, de koepelorganisatie van ruim 850 Europese universiteiten in 47 staten die 17 miljoen studenten vertegenwoordigt.\nRolf Tarrach was de lijsttrekker van Volt voor de Europese verkiezingen op 26 mei 2019. Rolf Tarrach is een begenadigd spreker en zal zijn presentatie houden over de geschiedenis en\noprichting van de Universiteit in Luxembourg\, de toekomst en de huidige ontwikkelingen van deze en andere universiteiten. \nProgramma :\n18:30u Ontvangst leden en gasten tijdens aperitief.\n19:00u Presentatie Rolf Tarrach.\nVoor kleine borrelhapjes tijdens de presentatie wordt gezorgd.\n19.45u Discussie met vragenrondje.\n20:15u Warm buffet.\n2100u Dessert en koffie.\n23:00u Slot. \nDe volgende punten van organisatie zijn :\n* De leden mogen ook introducees aanmelden.\n* De leden van de Nederlandse Vereniging NVL en Vlaamse Club VLC worden ook uitgenodigd.\n* De Organisatie verzoekt u zich per mail zo snel mogelijk aan te melden bij Bob en Joyce Gerbracht secretariaat mailadres: nhfsecretariaat@gmail.com vóór 18 november.\n* Uw aanmelding is definitief na inschrijving en ontvangst van uw bijdrage op de bankrekening van het Nederlands Handelsforum. \n* De organisatie biedt u\, voor onderstaande bijdragen\, per persoon aan\, de gehele avond verzorgd met aperitief\, warm buffet\, wijn en dessert met koffie.\nEuro 35\, – per persoon voor leden en partners\nEuro 45\, – voor overige personen\nAccount BIL Bank nr. LU47 0023 1107 2850 0000\n* Mocht u onverwijld verhinderd zijn\, maak dit direct bekend bij het NHF.\nHet bestuur van het NHF heet u allen hartelijk welkom voor dit interessante en gezellige NHF-event.
URL:https://nvl.lu/evenement/nfh-dr-professor-rolf-tarrach/
LOCATION:CEP D’OR\, 15 route du Vin L-5420 Hettermillen / Stadtbredimus\, 15 route du Vin L-5420 Hettermillen\, Stadtbredimus\, Luxembourg
CATEGORIES:Extern
ATTACH;FMTTYPE=image/png:https://nvl.lu/wp-content/uploads/2024/11/NHF-Tarrach.png
ORGANIZER;CN="Nederlands Handelsforum NHF":MAILTO:nhfsecretariaat@gmail.com
END:VEVENT
BEGIN:VEVENT
DTSTART;TZID=Europe/Luxembourg:20241130T103000
DTEND;TZID=Europe/Luxembourg:20241130T113000
DTSTAMP:20260426T045335
CREATED:20241028T125731Z
LAST-MODIFIED:20241028T125731Z
UID:6058-1732962600-1732966200@nvl.lu
SUMMARY:Voorleesochtend
DESCRIPTION:De Jeugdbibliotheek nodigt u graag uit voor een voorleesochtend op zaterdag 30 november\nvan 10.30 uur tot 11.30 uur in de Jeugdbibliotheek. Het thema is Sinterklaas. \nDe doelgroep voor de voorleesochtend zijn kinderen van 3 t/m 7 jaar\, maar jongere en oudere kinderen zijn uiteraard ook welkom.\nBoeken terugbrengen en uitlenen kan dan pas na het voorlezen\, dus vanaf ca. 11.30 uur.\nAanmelden voor de voorleesochtend en het uitlenen daarna kan tot uiterlijk 29 november via mail: \nnedjeugdbibliotheek@gmail.com \nAdres: 23\, rue Vauban\, Luxemburg-Pfaffenthal\nbereikbaar met bus 23 of 26\nwww.jeugdbibliotheek.lu
URL:https://nvl.lu/evenement/voorleesochtend/
LOCATION:Jeugdbibliotheek\, 23\, rue Vauban\, Luxemburg-Pfaffenthal\, Luxemburg
CATEGORIES:Extern,Luxemburg
ATTACH;FMTTYPE=image/png:https://nvl.lu/wp-content/uploads/2023/09/kinderboekenweek2023.png
ORGANIZER;CN="Jeugdbibliotheek":MAILTO:nedjeugdbibliotheek@gmail.com
END:VEVENT
END:VCALENDAR