BEGIN:VCALENDAR
VERSION:2.0
PRODID:-//Nederlandse Vereniging Luxemburg - ECPv6.15.20//NONSGML v1.0//EN
CALSCALE:GREGORIAN
METHOD:PUBLISH
X-ORIGINAL-URL:https://nvl.lu
X-WR-CALDESC:Evenementen voor Nederlandse Vereniging Luxemburg
REFRESH-INTERVAL;VALUE=DURATION:PT1H
X-Robots-Tag:noindex
X-PUBLISHED-TTL:PT1H
BEGIN:VTIMEZONE
TZID:Europe/Luxembourg
BEGIN:DAYLIGHT
TZOFFSETFROM:+0100
TZOFFSETTO:+0200
TZNAME:CEST
DTSTART:20230326T010000
END:DAYLIGHT
BEGIN:STANDARD
TZOFFSETFROM:+0200
TZOFFSETTO:+0100
TZNAME:CET
DTSTART:20231029T010000
END:STANDARD
BEGIN:DAYLIGHT
TZOFFSETFROM:+0100
TZOFFSETTO:+0200
TZNAME:CEST
DTSTART:20240331T010000
END:DAYLIGHT
BEGIN:STANDARD
TZOFFSETFROM:+0200
TZOFFSETTO:+0100
TZNAME:CET
DTSTART:20241027T010000
END:STANDARD
BEGIN:DAYLIGHT
TZOFFSETFROM:+0100
TZOFFSETTO:+0200
TZNAME:CEST
DTSTART:20250330T010000
END:DAYLIGHT
BEGIN:STANDARD
TZOFFSETFROM:+0200
TZOFFSETTO:+0100
TZNAME:CET
DTSTART:20251026T010000
END:STANDARD
END:VTIMEZONE
BEGIN:VEVENT
DTSTART;TZID=Europe/Luxembourg:20241006T120000
DTEND;TZID=Europe/Luxembourg:20241006T170000
DTSTAMP:20260426T062420
CREATED:20240913T074352Z
LAST-MODIFIED:20240913T094422Z
UID:5914-1728216000-1728234000@nvl.lu
SUMMARY:Bollenevent
DESCRIPTION:Save the date! Zondag 6 oktober van 12-17uur Bollenevent bij de Nederlandse residentie!\nEr zijn weer kwaliteit tulpenbollen te verkrijgen\, er wordt een kinderactiviteit georganiseerd en natuurlijk is de bar open en staan de bitterballen klaar! \nNoteer tevens in uw agenda: Bazar International 2024 – 15 t/m 17 november\, Luxexpo
URL:https://nvl.lu/evenement/bollenevent/
CATEGORIES:Extern
ATTACH;FMTTYPE=image/png:https://nvl.lu/wp-content/uploads/2024/09/Bollen-borrel-e1726220646217.png
END:VEVENT
BEGIN:VEVENT
DTSTART;TZID=Europe/Luxembourg:20241024T190000
DTEND;TZID=Europe/Luxembourg:20241024T230000
DTSTAMP:20260426T062420
CREATED:20241010T151205Z
LAST-MODIFIED:20241016T133909Z
UID:5994-1729796400-1729810800@nvl.lu
SUMMARY:NEDERLANDS HANDELSFORUM
DESCRIPTION:Het Nederlands Handelsforum  nodigt zijn leden uit voor een gezellige  avond in wijnhuis \nCEP D’OR\, 15 route du Vin L-5420 Hettermillen / Stadtbredimus \nDe spreker op deze avond is Dhr. Steven Zeeuw van der Laan.\nAls familielid van de familie van der Valk heeft hij met groot succes 7 jaar geleden het Hotel – Restaurant van der Valk in Arlon opgebouwd.\nVoorafgaande aan de presentatie kunt u van een eerste ronde van het koud buffet genieten. \nProgramma :\n19:00u : Ontvangst leden en gasten.\n19:30u : Koud buffet eerste ronde.\n20:15u : Presentatie en discussie met vragenrondje.\n21:15u : Tweede ronde koud buffet en aansluitend dessert buffet.\n23:00u : Slot \nDe volgende punten van organisatie zijn :\n* De leden mogen ook introducees aanmelden\n* de organisatie verzoekt u zich per mail zo snel mogelijk aan te melden bij Bob en Joyce Gerbracht\nsecretariaat mailadres bobgerbracht@yahoo.com vóór 19 oktober\n* Uw aanmelding is definitief na ontvangst van uw bijdrage op de bankrekening van het\nNederlands Handelsforum :\nEuro 45\,- per persoon\nEuro 55\,- per introducé\nAccount BIL Bank nr. LU47 0023 1107 2850 0000
URL:https://nvl.lu/evenement/nederlands-handelsforum/
LOCATION:CEP D’OR\, 15 route du Vin L-5420 Hettermillen / Stadtbredimus\, 15 route du Vin L-5420 Hettermillen\, Stadtbredimus\, Luxembourg
CATEGORIES:Extern
ATTACH;FMTTYPE=image/png:https://nvl.lu/wp-content/uploads/2024/10/NHF-event-vd-Valk.png
ORGANIZER;CN="Nederlands Handelsforum NHF":MAILTO:nhfsecretariaat@gmail.com
END:VEVENT
END:VCALENDAR