BEGIN:VCALENDAR
VERSION:2.0
PRODID:-//Nederlandse Vereniging Luxemburg - ECPv4.9.14//NONSGML v1.0//EN
CALSCALE:GREGORIAN
METHOD:PUBLISH
X-WR-CALNAME:Nederlandse Vereniging Luxemburg
X-ORIGINAL-URL:https://nvl.lu
X-WR-CALDESC:Events for Nederlandse Vereniging Luxemburg
BEGIN:VTIMEZONE
TZID:UTC
BEGIN:STANDARD
TZOFFSETFROM:+0000
TZOFFSETTO:+0000
TZNAME:UTC
DTSTART:20190101T000000
END:STANDARD
END:VTIMEZONE
BEGIN:VEVENT
DTSTART;TZID=UTC:20191126T193000
DTEND;TZID=UTC:20191126T220000
DTSTAMP:20200125T040207
CREATED:20191021T181347Z
LAST-MODIFIED:20191021T181536Z
UID:4512-1574796600-1574805600@nvl.lu
SUMMARY:Cleveringalezing 2019
DESCRIPTION:Het Luxemburgse Comité van Leidse Reünisten organiseert de traditionele Cleveringabijeenkomst op\ndinsdag 26 november a.s.\nin de Résidence van de Nederlandse ambassadeur:\n‘Bricherhaff’: 138\, rue des Muguets\, Luxembourg. \nOnze Nederlandse ambassadeur\, de heer Han-Maurits Schaapveld\, is zo vriendelijk zijn residentie ter beschikking te stellen voor deze avond.\nZoals te doen gebruikelijk begint de avond om 19.30 uur met koffie. \nOnze spreker dit jaar is  Mr.drs. W.J.M. Aerdts\, docent aan de Universiteit Leiden\, Institute of Security and Global Affairs. Zij is expert op het gebied van inlichtingen- en veiligheidsdiensten.\nZij zal ingaan op het werk van inlichtingen- en veiligheidsdiensten\, met name hoe zij de Nederlandse rechtsorde beschermen\, hoe zij weer gecontroleerd worden en hoe de diensten huidige en toekomstige aanslagen mogelijk kunnen voorkomen.\nIn deze tijd van toenemende dreiging en aanslagen een zeer actueel onderwerp dat ons allen aangaat\, ook in het relatief veilige Luxemburg. \nDe entrée voor de bijeenkomst bedraagt € 10\,00 p.p.\nIndien U wilt deelnemen aan deze avond\, verzoeken we U vriendelijk het verschuldigde bedrag graag vòòr 10 november over te maken op:\nBIL: IBAN LU42 0025 1599 1474 8800\nt.n.v. Aldert ter Weer\, o.v.v. ‘Cleveringa avond 2019’. \nTevens verzoeken we U vriendelijk vòòr 10 november a.s. te reageren door het sturen van een e-mail naar: terweer@pt.lu . \n
URL:https://nvl.lu/evenement/cleveringalezing-2019/
LOCATION:Residentie ‘Bricherhaff’\, 138\, Rue des Muguets\, Weimershof\, Luxembourg City\, L- 2167
CATEGORIES:Extern
ATTACH;FMTTYPE=image/jpeg:https://nvl.lu/wp-content/uploads/2017/10/cleveringa-3-1.jpg
ORGANIZER;CN="Aldert%20ter%20Weer":MAILTO:terweer@pt.lu
END:VEVENT
END:VCALENDAR