BEGIN:VCALENDAR
VERSION:2.0
PRODID:-//Nederlandse Vereniging Luxemburg - ECPv5.5.0.1//NONSGML v1.0//EN
CALSCALE:GREGORIAN
METHOD:PUBLISH
X-WR-CALNAME:Nederlandse Vereniging Luxemburg
X-ORIGINAL-URL:https://nvl.lu
X-WR-CALDESC:Evenementen voor Nederlandse Vereniging Luxemburg
BEGIN:VTIMEZONE
TZID:Europe/Luxembourg
BEGIN:DAYLIGHT
TZOFFSETFROM:+0100
TZOFFSETTO:+0200
TZNAME:CEST
DTSTART:20210328T010000
END:DAYLIGHT
BEGIN:STANDARD
TZOFFSETFROM:+0200
TZOFFSETTO:+0100
TZNAME:CET
DTSTART:20211031T010000
END:STANDARD
END:VTIMEZONE
BEGIN:VEVENT
DTSTART;TZID=Europe/Luxembourg:20210425T103000
DTEND;TZID=Europe/Luxembourg:20210425T150000
DTSTAMP:20210420T021007
CREATED:20210413T183331Z
LAST-MODIFIED:20210416T070255Z
UID:5123-1619346600-1619362800@nvl.lu
SUMMARY:Koningsdag autospeurtocht
DESCRIPTION:Zondag 25 april organiseren we een Coronaproof Koningsdag autospeurtocht voor het hele gezin! \nAl navigerend door het prachtige Luxemburgse landschap kom je langs verschillende bemande én onbemande posten. In je oranje outfit zing je luidkeels mee met Hollandse hits van de NVL Spotify playlist\, terwijl op de achterbank de auto bingo gespeeld kan worden. Niemand hoeft zich een moment te vervelen! En leven jullie je vooral ook helemaal uit op de styling\, want de best versierde auto inclusief inzittenden wint een prijs! \nIn de ochtend vertrekken de auto’s vanaf Parc hotel Alvisse\, de exacte vertrektijd volgt na inschrijving en is afhankelijk van het aantal deelnemers\, maar zal tussen 10.30 en 11.30 uur zijn. Kosten om deel te nemen zijn EUR 5\,- voor volwassenen en EUR 2\,50 voor kinderen voor leden van de NVL. Niet-leden zijn ook van harte welkom en betalen een eigen bijdrage van EUR 10\,- voor volwassenen en EUR 5\,- voor kinderen. Dit is inclusief een kleine lunch die bij mooi weer op het terras gegeten kan worden\, en anders als lunchpakket wordt meegegeven. \nWat:               Koningsdag autospeurtocht\nWaar:            Parc hotel Alvisse\n120 Route d’Echternach\nL-1453 Luxembourg \nSchrijf je in door het volgende formulier in te vullen en de eigen bijdrage over te maken naar IBAN nummer LU51 0030 3121 9078 0000 en BIC BGLL LULL onder vermelding van “autospeurtocht + je naam”. Uiteraard houden we rekening met alle Corona maatregelen die door de Luxemburgse overheid getroffen zijn. Vragen? Neem dan even contact met ons op via contact@nvl.lu.
URL:https://nvl.lu/evenement/koningsdag-autospeurtocht/
LOCATION:Parc Hotel Alvisse\, 120 Route d'Echternach\, Luxembourg\, L-1453\, Luxemburg
CATEGORIES:NVL
ATTACH;FMTTYPE=image/gif:https://nvl.lu/wp-content/uploads/2021/04/autospeurtocht2.gif
ORGANIZER;CN="Jojanneke%20de%20Jong":MAILTO:contact@nvl.lu
END:VEVENT
END:VCALENDAR