BEGIN:VCALENDAR
VERSION:2.0
PRODID:-//Nederlandse Vereniging Luxemburg - ECPv4.9.14//NONSGML v1.0//EN
CALSCALE:GREGORIAN
METHOD:PUBLISH
X-WR-CALNAME:Nederlandse Vereniging Luxemburg
X-ORIGINAL-URL:https://nvl.lu
X-WR-CALDESC:Events for Nederlandse Vereniging Luxemburg
BEGIN:VTIMEZONE
TZID:UTC
BEGIN:STANDARD
TZOFFSETFROM:+0000
TZOFFSETTO:+0000
TZNAME:UTC
DTSTART:20190101T000000
END:STANDARD
END:VTIMEZONE
BEGIN:VEVENT
DTSTART;TZID=UTC:20191209T183000
DTEND;TZID=UTC:20191209T213000
DTSTAMP:20200125T034341
CREATED:20191203T184718Z
LAST-MODIFIED:20191203T184718Z
UID:4603-1575916200-1575927000@nvl.lu
SUMMARY:The Trial of Ratko Mladić
DESCRIPTION:In honour of Human Rights Day 2019\, the Embassy of the Kingdom of the Netherlands cordially invites you to the viewing of: \nThe Trial of Ratko Mladić \nFilmmakers Rob Miller and Henry Singer shed light on the war in Yugoslavia from two angles\, by not only speaking to the public prosecutors and visiting victims and witnesses but also interviewing Mladić’s lawyers\, supporters and family members\, who consider him a patriotic hero. In doing so\, the film raises questions about the International tribunal itself – it is possible to achieve justice through a fie-year trial if it won’t bring back the dead and the accused refuses to even acknowledge the verdict? Shocking\, portent images in archive news footage remind us of the absurd and gratuitous cruelty meted out in this dirty war\, whose battles are still not over.\nThe documentary-film will be shown on Monday 9 December at Ciné Utopia\, 16 avenue de la Faïencerie\, L-1510 Luxembourg and is free of charge. \nProgramme\n18h30 Registration\n19h00 Welcome by H.E. Mr. Schaapveld\, Ambassador of the Netherlands\n19h05 Introduction by H.E. Mr. Bichler\, Luxembourg Ambassador at large for Human Rights\n19h10 Viewing of ‘The Trial of Ratko Mladic’\n20h50 Cocktails\, selected guests available for questions and discussions\n21h30 End \nFeel free to invite your partners\, friends and colleagues as well. Registrations are required and can be submitted to lux-events@minbuza.nl (before 4 December) \n
URL:https://nvl.lu/evenement/the-trial-of-ratko-mladic/
LOCATION:Ciné Utopia\, 16 avenue de la Faïencerie\, Luxemburg\, L-1510\, Luxemburg
CATEGORIES:Nederlandse Ambassade
ATTACH;FMTTYPE=image/jpeg:https://nvl.lu/wp-content/uploads/2019/12/The-Trial-of-Ratko-Mladic.jpg
ORGANIZER;CN="Embassy%20NL%20Team":MAILTO:lux@minbuza.nl
END:VEVENT
END:VCALENDAR