BEGIN:VCALENDAR
VERSION:2.0
PRODID:-//Nederlandse Vereniging Luxemburg - ECPv4.9.14//NONSGML v1.0//EN
CALSCALE:GREGORIAN
METHOD:PUBLISH
X-WR-CALNAME:Nederlandse Vereniging Luxemburg
X-ORIGINAL-URL:https://nvl.lu
X-WR-CALDESC:Events for Nederlandse Vereniging Luxemburg
BEGIN:VTIMEZONE
TZID:UTC
BEGIN:STANDARD
TZOFFSETFROM:+0000
TZOFFSETTO:+0000
TZNAME:UTC
DTSTART:20190101T000000
END:STANDARD
END:VTIMEZONE
BEGIN:VEVENT
DTSTART;TZID=UTC:20191127T180000
DTEND;TZID=UTC:20191127T210000
DTSTAMP:20200125T034324
CREATED:20191009T174941Z
LAST-MODIFIED:20191010T074427Z
UID:4498-1574877600-1574888400@nvl.lu
SUMMARY:Wijnproeverij - Melia Hotel
DESCRIPTION:Save the date! \nWoensdag 27 november zijn we te gast bij het Melia hotel in Luxemburg voor een wijnproeverij georganiseerd door wijnhandel Vinites. Vooruitlopend op de feestdagen geven we de proeverij een feestelijk tintje; wat te serveren bij een feestmaal. We proeven een aantal wijnen\, welke we combineren met een een bijpassend hapje. \nHoudt de datum vast vrij\, een compleet programma en mogelijkheid tot inschrijven volgen snel. \n  \nWanneer: Woensdag 27 mei \nWaar: Melia Hotel Luxemburg\, 1 Park Drai Eechelen\, 1499 Luxembourg \n
URL:https://nvl.lu/evenement/wijnproeverij-melia-hotel/
LOCATION:Melia Hotel Luxemburg\, 1 Park Drai Eechelen\, Luxemburg\, L-1499\, Luxemburg
CATEGORIES:NVL
ATTACH;FMTTYPE=image/jpeg:https://nvl.lu/wp-content/uploads/2017/09/wijnproeverij.jpg
ORGANIZER;CN="Kasper%20Meijerink":MAILTO:contact@nvl.lu
END:VEVENT
END:VCALENDAR