BEGIN:VCALENDAR
VERSION:2.0
PRODID:-//Nederlandse Vereniging Luxemburg - ECPv5.8.1//NONSGML v1.0//EN
CALSCALE:GREGORIAN
METHOD:PUBLISH
X-WR-CALNAME:Nederlandse Vereniging Luxemburg
X-ORIGINAL-URL:https://nvl.lu
X-WR-CALDESC:Evenementen voor Nederlandse Vereniging Luxemburg
BEGIN:VTIMEZONE
TZID:Europe/Luxembourg
BEGIN:DAYLIGHT
TZOFFSETFROM:+0100
TZOFFSETTO:+0200
TZNAME:CEST
DTSTART:20200329T010000
END:DAYLIGHT
BEGIN:STANDARD
TZOFFSETFROM:+0200
TZOFFSETTO:+0100
TZNAME:CET
DTSTART:20201025T010000
END:STANDARD
END:VTIMEZONE
BEGIN:VEVENT
DTSTART;TZID=Europe/Luxembourg:20200425T160000
DTEND;TZID=Europe/Luxembourg:20200425T180000
DTSTAMP:20210723T111658
CREATED:20200308T194645Z
LAST-MODIFIED:20200318T133254Z
UID:4733-1587830400-1587837600@nvl.lu
SUMMARY:AFGELAST - Vrijmarkt Koningsdag 2020
DESCRIPTION:Koningsdag ook op ambassades afgelast\nKoningsdag is ook op de circa 150 Nederlandse ambassades afgelast\, zo heeft buitenlandminister Stef Blok besloten. “Gezien de coronacrisis die wereldwijd om zich heen grijpt is het logisch dat dit jaar wordt afgezien van de gebruikelijke festiviteiten.” \nInfo can nu.nl Liveticket (18-03-2020 15:22) \n  \nSave the Date! \n  \nTraditie getrouw opent de Nederlandse Ambassadeur de heer Schaapveld zijn tuin voor de kinderen voor de vrijmarkt. \nDetails volgen binnenkort! \n\n\n	Gerelateerd
URL:https://nvl.lu/evenement/vrijmarkt-koningsdag-2020/
LOCATION:Residentie ‘Bricherhaff’\, 138\, Rue des Muguets\, Weimershof\, Luxembourg City\, L- 2167
CATEGORIES:Extern
ATTACH;FMTTYPE=image/jpeg:https://nvl.lu/wp-content/uploads/2018/04/2017-04-29-13.34.53.jpg
ORGANIZER;CN="Administratie%20NTC":MAILTO:administratie@ntc.lu
END:VEVENT
END:VCALENDAR