BEGIN:VCALENDAR
VERSION:2.0
PRODID:-//Nederlandse Vereniging Luxemburg - ECPv6.15.20//NONSGML v1.0//EN
CALSCALE:GREGORIAN
METHOD:PUBLISH
X-WR-CALNAME:Nederlandse Vereniging Luxemburg
X-ORIGINAL-URL:https://nvl.lu
X-WR-CALDESC:Evenementen voor Nederlandse Vereniging Luxemburg
REFRESH-INTERVAL;VALUE=DURATION:PT1H
X-Robots-Tag:noindex
X-PUBLISHED-TTL:PT1H
BEGIN:VTIMEZONE
TZID:Europe/Luxembourg
BEGIN:DAYLIGHT
TZOFFSETFROM:+0100
TZOFFSETTO:+0200
TZNAME:CEST
DTSTART:20250330T010000
END:DAYLIGHT
BEGIN:STANDARD
TZOFFSETFROM:+0200
TZOFFSETTO:+0100
TZNAME:CET
DTSTART:20251026T010000
END:STANDARD
BEGIN:DAYLIGHT
TZOFFSETFROM:+0100
TZOFFSETTO:+0200
TZNAME:CEST
DTSTART:20260329T010000
END:DAYLIGHT
BEGIN:STANDARD
TZOFFSETFROM:+0200
TZOFFSETTO:+0100
TZNAME:CET
DTSTART:20261025T010000
END:STANDARD
BEGIN:DAYLIGHT
TZOFFSETFROM:+0100
TZOFFSETTO:+0200
TZNAME:CEST
DTSTART:20270328T010000
END:DAYLIGHT
BEGIN:STANDARD
TZOFFSETFROM:+0200
TZOFFSETTO:+0100
TZNAME:CET
DTSTART:20271031T010000
END:STANDARD
END:VTIMEZONE
BEGIN:VEVENT
DTSTART;TZID=Europe/Luxembourg:20260425T103000
DTEND;TZID=Europe/Luxembourg:20260425T113000
DTSTAMP:20260425T013532
CREATED:20260414T094628Z
LAST-MODIFIED:20260414T094628Z
UID:6732-1777113000-1777116600@nvl.lu
SUMMARY:VOORLEESOCHTEND 25 APRIL
DESCRIPTION:Dit delen:\n				Share op Facebook (Opent in een nieuw venster)\n				Facebook\n			\n				Delen op WhatsApp (Opent in een nieuw venster)\n				WhatsApp\n			\n				Delen op X (Opent in een nieuw venster)\n				X\n			\n				E-mail een link naar een vriend (Opent in een nieuw venster)\n				E-mail\n			\n				Delen op LinkedIn (Opent in een nieuw venster)\n				LinkedIn\n			\n				Delen op Telegram (Opent in een nieuw venster)\n				Telegram\n			\n				Delen op Pinterest (Opent in een nieuw venster)\n				Pinterest\n			Vind ik leuk:Vind-ik-leuk Aan het laden...\n\n	Gerelateerd
URL:https://nvl.lu/evenement/voorleesochtend-25-april/
CATEGORIES:Extern
ATTACH;FMTTYPE=image/jpeg:https://nvl.lu/wp-content/uploads/2026/04/1776159453917-fe4697f6-ac78-4b62-9af1-1a23a24359152026_1-e1776159911396.jpg
END:VEVENT
END:VCALENDAR