BEGIN:VCALENDAR
VERSION:2.0
PRODID:-//Nederlandse Vereniging Luxemburg - ECPv5.8.1//NONSGML v1.0//EN
CALSCALE:GREGORIAN
METHOD:PUBLISH
X-WR-CALNAME:Nederlandse Vereniging Luxemburg
X-ORIGINAL-URL:https://nvl.lu
X-WR-CALDESC:Evenementen voor Nederlandse Vereniging Luxemburg
BEGIN:VTIMEZONE
TZID:Europe/Luxembourg
BEGIN:DAYLIGHT
TZOFFSETFROM:+0100
TZOFFSETTO:+0200
TZNAME:CEST
DTSTART:20200329T010000
END:DAYLIGHT
BEGIN:STANDARD
TZOFFSETFROM:+0200
TZOFFSETTO:+0100
TZNAME:CET
DTSTART:20201025T010000
END:STANDARD
END:VTIMEZONE
BEGIN:VEVENT
DTSTART;VALUE=DATE:20200817
DTEND;VALUE=DATE:20200823
DTSTAMP:20210723T111422
CREATED:20200126T184217Z
LAST-MODIFIED:20200126T184502Z
UID:4637-1597629600-1598061599@nvl.lu
SUMMARY:Vakantieweek NTC 2020
DESCRIPTION:17 tot en met 21 augustus in Strassen \nHet NTC Luxemburg organiseert ieder jaar een gezellige week vol sportieve en leerzame activiteiten voor kinderen van 4 tot en met 12 jaar oud. Het thema van dit jaar is: BEROEPEN. We hebben al een heleboel leuke activiteiten in petto om invulling te geven aan dit thema. \nWe stemmen het aanbod van de activiteiten af op de leeftijd van de kinderen zodat we iedereen een uitdagend programma kunnen bieden. Dit alles in een ongedwongen setting. We stimuleren de kinderen\, maar we houden rekening met hun wensen en capaciteiten. Uitgebreide informatie over de vakantieweek vindt u hier\, Leest u dit alstublieft eerst goed door\, mocht u daarna nog vragen hebben\, dan kunt u contact opnemen met Jojanneke de Jong\, coordinator NTC Luxemburg. \nU kunt uw kind(eren) inschrijven door op deze link te klikken: Inschrijving vakantieweek \nNa ontvangst van de aanmeldingsbevestiging dient een aanbetaling te worden gedaan. Deze aanbetaling bedraagt €100\,- Het rekeningnummer is IBAN LU 74 0019 1455 4614 9000 (BCEELULL) o.v.v. naam kind en vakantieweek 2020 \n\n\n	Gerelateerd
URL:https://nvl.lu/evenement/vakantieweek-ntc-2020/
CATEGORIES:Extern
ATTACH;FMTTYPE=image/jpeg:https://nvl.lu/wp-content/uploads/2020/01/Flyer-vakantieweek-2020.jpg
ORGANIZER;CN="Administratie%20NTC":MAILTO:administratie@ntc.lu
END:VEVENT
END:VCALENDAR