BEGIN:VCALENDAR
VERSION:2.0
PRODID:-//Nederlandse Vereniging Luxemburg - ECPv5.8.1//NONSGML v1.0//EN
CALSCALE:GREGORIAN
METHOD:PUBLISH
X-WR-CALNAME:Nederlandse Vereniging Luxemburg
X-ORIGINAL-URL:https://nvl.lu
X-WR-CALDESC:Evenementen voor Nederlandse Vereniging Luxemburg
BEGIN:VTIMEZONE
TZID:Europe/Luxembourg
BEGIN:DAYLIGHT
TZOFFSETFROM:+0100
TZOFFSETTO:+0200
TZNAME:CEST
DTSTART:20200329T010000
END:DAYLIGHT
BEGIN:STANDARD
TZOFFSETFROM:+0200
TZOFFSETTO:+0100
TZNAME:CET
DTSTART:20201025T010000
END:STANDARD
END:VTIMEZONE
BEGIN:VEVENT
DTSTART;TZID=Europe/Luxembourg:20201001T161500
DTEND;TZID=Europe/Luxembourg:20201001T173000
DTSTAMP:20210723T112105
CREATED:20200928T174223Z
LAST-MODIFIED:20200928T174334Z
UID:4963-1601568900-1601573400@nvl.lu
SUMMARY:Tentoonstelling: Brushed by Light
DESCRIPTION:Laatste kans: Geleid bezoek\nTentoonstelling: Brushed by Light\nvan de Nederlandse artieste Carla van de Puttelaar\ndonderdag 1 oktober 2020 om 16u15\nLe Musée National d’Histoire et d’Art \nActiviteit van de Vlaamse Club Luxemburg \nDe internationaal vermaarde fotografe Carla van de Puttelaar heeft een indrukwekkend oeuvre gecreëerd dat al meer dan twintig jaar de vrouwelijke naakten\, gelaatsuitdrukkingen en de wereld van de bloemen viert. Haar foto’s\, die gekenmerkt worden door een zeer persoonlijke stijl\, worden altijd bij daglicht genomen. Ze richt zich vooral op de huid\, met aandacht voor alle details zoals moedervlekken\, kippenvel en kledingdrukken. \nCarla van de Puttelaar is een levendige en pittige dame\, fotografe en kunsthistorica die ons met liefde en overvloed van woorden hoogst persoonlijk door haar tentoonstelling zal gidsen. \nAls kunstenaar en fotograaf staat ze bekend voor haar seriële werk. Niet alleen vrouwen maar ook bloemen krijgen een bijzondere aandacht. Belangrijke details zoals een moedervlekje\, een ader of de structuur van een bloem dragen bij tot de sensualiteit van de werken. Met haar portrettenreeks “Artfully dressed” verenigt zij de persoonlijke verhalen van krachtige vrouwen in de kunst en haar voorliefde voor designerkleding. Haar passie voor schilders uit de Gouden Eeuw zoals Rembrandt en Cranach maar ook Theodoor Van Loon inspireerden haar voor een serie naakten op zwarte achtergrond met een natuurlijk lichtinval. \nPraktisch \nWie er op bij het geleid bezoek niet bij kan zijn kan zich inschrijven voor de gratis conference van kunsthistoricus Fred G. Meyer: “Carla van de Puttelaar and the Old Masters” op 1/10/20 om 18.00u dezelfde dag via émail aan servicedespublics@mnha.etat.lu. De tentoonstelling loopt van 20-03 tot 18-10-20. \n\nAfspreekplek Musée National d’Histoire et d’Art\, Marché-aux-Poissons L- 2345 Luxembourg\nTijdstip 16u15\, STIPT!\nKostprijs: 7 euro (dit bevat de prijs voor de gidsbeurt\, toegang tot de tentoonstelling en een drankje na het bezoek). Enkel leden.\nDoor Covid-19 restricties zijn er slechts negen plaatsen – vooraf inschrijven is dus een must.\nMeer info: https://www.mnha.lu/fr/expositions/brushed-by-light\n\nLeden van de NVL kunnen zich ook inschrijven voor het gelijke bedrag als leden van de VCL. Graag vermelden bij ‘Omschrijving’: ‘NVL’. \nhttps://www.vlaamseclub.lu/cms/index.php/activiteiten/305-01-10-2020-tentoonstelling-brushed-by-light \n  \n\n\n	Gerelateerd
URL:https://nvl.lu/evenement/tentoonstelling-brushed-by-light/
LOCATION:Musée National d’Histoire et d’Art\, Marché-aux-Poissons\, Luxemburg\, L- 2345\, Luxemburg
CATEGORIES:Extern
ATTACH;FMTTYPE=image/jpeg:https://nvl.lu/wp-content/uploads/2020/09/Carla-van-de-Puttelaar-Burshed-by-Light.jpg
ORGANIZER;CN="Vlaamse%20Club":MAILTO:info@vlaamseclub.lu
END:VEVENT
END:VCALENDAR