BEGIN:VCALENDAR
VERSION:2.0
PRODID:-//Nederlandse Vereniging Luxemburg - ECPv5.8.1//NONSGML v1.0//EN
CALSCALE:GREGORIAN
METHOD:PUBLISH
X-WR-CALNAME:Nederlandse Vereniging Luxemburg
X-ORIGINAL-URL:https://nvl.lu
X-WR-CALDESC:Evenementen voor Nederlandse Vereniging Luxemburg
BEGIN:VTIMEZONE
TZID:Europe/Luxembourg
BEGIN:DAYLIGHT
TZOFFSETFROM:+0100
TZOFFSETTO:+0200
TZNAME:CEST
DTSTART:20190331T010000
END:DAYLIGHT
BEGIN:STANDARD
TZOFFSETFROM:+0200
TZOFFSETTO:+0100
TZNAME:CET
DTSTART:20191027T010000
END:STANDARD
END:VTIMEZONE
BEGIN:VEVENT
DTSTART;TZID=Europe/Luxembourg:20190818T123000
DTEND;TZID=Europe/Luxembourg:20190818T133000
DTSTAMP:20210723T111055
CREATED:20190726T123623Z
LAST-MODIFIED:20190801T130258Z
UID:4443-1566131400-1566135000@nvl.lu
SUMMARY:Stadswandeleing - Kazematten
DESCRIPTION:Save the date! \nOp 18 augustus zal Jacinthe een rondleiding geven door de Bockkazematten in Luxemburg stad. Verdere informatie volgt! \nWat: Rondleiding Kazematten \nWaar: Kazematten (Verzamelen Place d’Armes\, muziekkiosk) \nWanneer: 18 augustus 2019\, 10:30 \nKosten zijn € 5\,- per persoon\, dit is inclusief de rondleiding\, entree tot de Kazematten en een kop koffie na afloop. \nSchrijf je in voor dit leerzame en gezellige evenement door een email te sturen naar contact@nvl.lu en de eigen bijdrage over te maken op IBAN nummer LU51 0030 3121 9078 0000 en BIC BGLL LULL onder vermelding van “wandeling + je naam”. De deadline om in te schrijven is donderdag 15 augustus. \n  \nIn het jaar 963 bouwde Graaf Siegfried op de Bock-rots een kasteel; dit was de basis voor de latere stad. In het verloop van de eeuwen werden geweldige ringmuren aan de westkant aangelegd\, die de Bourgondiërs er toch niet van hebben kunnen afhouden\, de stad 1443 in te nemen. Luxemburg bleef daarna 400 jaar onder vreemde heerschappij. De beste vestingsbouwers van de bezettende machten (Bourgondiërs\, Spanjaarden\, Fransen\, Oostenrijkers en de Duitse Bond) maakten van de stad één van de sterkste vestingen ter wereld: het “Gibraltar van het Noorden”. De verdediging geschiedde door 3 vestingsgordels met 24 forten en nog eens 16 andere belangrijke versterkingen alsmede door middel van een enorm ondergronds netwerk van 23 km kazematten. De kazematten boden niet alleen een schuilplaats aan duizenden soldaten mét hun paarden\, maar huisvestten ook ateliers\, bakkerijen\, slagerijen enz. In 1867 moest de vesting ontruimd en afgebroken worden omdat Luxemburg tot neutraal gebied was verklaard. Tijdens de afbraak\, die 16 jaar duurde\, verdwenen ook de gebouwen die boven op de Bock stonden. Het was echter onmogelijk de kazematten op te blazen zonder schade voor bepaalde gedeelten van de stad aan te richten. Men beperkte zich tot het sluiten van de voornaamste ingangen en verbindingen; overgebleven zijn nog 17 km kazematten\, gedeeltelijk over verschillende verdiepingen verdeeld. Eindeloze trappen zijn tot 40 meter diep in de rotsen uitgehakt. \n\n\n	Gerelateerd
URL:https://nvl.lu/evenement/stadswandeleing-kazematten/
LOCATION:kiosk Place d’Armes\, Place d'Armes\, Luxemburg\, L2163\, Luxemburg
CATEGORIES:NVL
ATTACH;FMTTYPE=image/jpeg:https://nvl.lu/wp-content/uploads/2019/07/Casemattes-Luxembourg.jpg
ORGANIZER;CN="Jacinthe%20Wezenberg":MAILTO:contact@nvl.lu
END:VEVENT
END:VCALENDAR