BEGIN:VCALENDAR
VERSION:2.0
PRODID:-//Nederlandse Vereniging Luxemburg - ECPv5.8.1//NONSGML v1.0//EN
CALSCALE:GREGORIAN
METHOD:PUBLISH
X-WR-CALNAME:Nederlandse Vereniging Luxemburg
X-ORIGINAL-URL:https://nvl.lu
X-WR-CALDESC:Evenementen voor Nederlandse Vereniging Luxemburg
BEGIN:VTIMEZONE
TZID:Europe/Luxembourg
BEGIN:DAYLIGHT
TZOFFSETFROM:+0100
TZOFFSETTO:+0200
TZNAME:CEST
DTSTART:20190331T010000
END:DAYLIGHT
BEGIN:STANDARD
TZOFFSETFROM:+0200
TZOFFSETTO:+0100
TZNAME:CET
DTSTART:20191027T010000
END:STANDARD
END:VTIMEZONE
BEGIN:VEVENT
DTSTART;TZID=Europe/Luxembourg:20190914T160000
DTEND;TZID=Europe/Luxembourg:20190914T200000
DTSTAMP:20210723T111111
CREATED:20190911T221825Z
LAST-MODIFIED:20190911T222936Z
UID:4457-1568476800-1568491200@nvl.lu
SUMMARY:Sophia's Garden Concert
DESCRIPTION:Han-Maurits Schaapveld\, Ambassador of the Netherlands\, proudly invites you to Contribute to the financing of MMCC “the social circus for children in war zones” by attending: \nSophia’s Garden Concert for MMCC* – 6th Social Circus\nMusic art food & drinks\nJoyful magic of social circus bringing laughter to children of war. Let’s spread happiness together! Coma and join me\, Sophia. \nMusic/Dance \n\nJazz voices Luxembourg\nZaltimband & Swingdance Luxembourg\nClown Rooie Arie\nSitta\n\nArt auction \n\nSophia Rein\nLene Rudolph\nEgberdien van der Torre\nArt-Auctioneer: H.E. Ambassador Schaapveld\n\nWorkshop \n\nZaltimbanq’ Zirkus\n‘Making Poetry together’\nEgberdien van der Torre\n\nPhoto Exposition \n\nHope Investing – Nafise Motlaq\n\nPhotographer \n\nRamunas Astraukas\n\nFood/drinks \n\nChiche!-\nChadi’s Falafer pop-up\nNetherlands Embassy\nPot luck of cake\n\nSpecial Guests \n\nFounder MMCC: David Mason\nDocumentary photographer Nafise Motlaq\nThijs Broekman & Bart beets – Stans Project\n\nAnd some surpises on the way! \n  \nMMCC: \nMobile Mini Circus for Children \nSocial Circus for Children in Warzones \nwww.mmccglobal.org \n  \nPlease RSVP: kakelbunt@gmail.com \n00352 621 232 444 \n  \nInitiator / co-organizer: Sophia Jansen \n \n\n\n	Gerelateerd
URL:https://nvl.lu/evenement/sophias-garden-concert/
LOCATION:Residentie ‘Bricherhaff’\, 138\, Rue des Muguets\, Weimershof\, Luxembourg City\, L- 2167
CATEGORIES:Nederlandse Ambassade
ATTACH;FMTTYPE=image/jpeg:https://nvl.lu/wp-content/uploads/2019/09/Sophia-Jansen-MMCC-Garden-Concert-2.jpg
ORGANIZER;CN="Embassy%20NL%20Team":MAILTO:lux-events@minbuza.nl
END:VEVENT
END:VCALENDAR