BEGIN:VCALENDAR
VERSION:2.0
PRODID:-//Nederlandse Vereniging Luxemburg - ECPv5.8.1//NONSGML v1.0//EN
CALSCALE:GREGORIAN
METHOD:PUBLISH
X-WR-CALNAME:Nederlandse Vereniging Luxemburg
X-ORIGINAL-URL:https://nvl.lu
X-WR-CALDESC:Evenementen voor Nederlandse Vereniging Luxemburg
BEGIN:VTIMEZONE
TZID:Europe/Luxembourg
BEGIN:DAYLIGHT
TZOFFSETFROM:+0100
TZOFFSETTO:+0200
TZNAME:CEST
DTSTART:20200329T010000
END:DAYLIGHT
BEGIN:STANDARD
TZOFFSETFROM:+0200
TZOFFSETTO:+0100
TZNAME:CET
DTSTART:20201025T010000
END:STANDARD
END:VTIMEZONE
BEGIN:VEVENT
DTSTART;TZID=Europe/Luxembourg:20200404T020000
DTEND;TZID=Europe/Luxembourg:20200406T000000
DTSTAMP:20210723T111715
CREATED:20200402T171333Z
LAST-MODIFIED:20200402T171458Z
UID:4754-1585965600-1586131200@nvl.lu
SUMMARY:Relais Pour la Vie - Relais@Home
DESCRIPTION:Nu iedereen thuis moeten blijven heeft Enovos een alternatief bedacht op de afgelaste Relais pour la Vie van 21 maart. \nVoor elke kilometer hardlopen or fietsen\, of elke 5 minuten workout\, zal Enovos 1€ doneren aan Fondation Cancer\n1 km – hardlopen – lopen – fietsen = 1€ donatie\n5 min Workout = 1€ donatie \nPost een foto van je sportieve resultaat van Zaterdag 4 april tot zondag 5 april 22:00h\n• Smart watch\n• Applicatie\n• Home-Trainer\n• enz. \n****************************************************************\nVir all Kilometer deens Du leefs oder um Vëlo fiers (oder vir all Tranche vun 5 Minutten wou’s du däin Workout mëschs)\, spendt Enovos 1€ un d’Fondation Cancer.\n1 km – run – walk – bike = 1€ Spend\n5 min Workout = 1€ Spend \nDu hues vum Samschdeg 4. Abrëll bis Sonndeg\, 5. Abrëll um 22.00 Zäit vir d’Photo vun denger Leeschtung hei ze posten!\n• Smart watch\n• Application\n• Home-Trainer\n• etc. \n****************************************************************\nFor every kilometer of running or cycling\, or for every 5 minutes of workout\, Enovos will donate 1€ to Fondation Cancer.\n1 km – run – walk – bike = 1€ donation\n5 min Workout = 1€ donation \nPost a photo of the results of your sporting achievements from Saturday\, 4th April ’til Sunday\, 5th April until 22.00\n• Smart watch\n• Application\n• Home-Trainer\n• etc. \n*******************************************************************\nPour chaque kilomètre parcouru à vélo ou en courant\, ou pour chaque séance d’entraînement de 5 minutes\, Enovos fera un don de 1€ à la Fondation Cancer.\n1 km – course – marche – vélo = Don de 1€\n5 min d’entraînement = Don de 1€ \nDu samedi 4 avril ou dimanche 5 avril à 22h00\, envoyez-nous une photo des résultats de vos exploits sportifs sur votre :\n– Smart watch\n– Application\n– Home-trainer\n– etc. \n\n\n	Gerelateerd
URL:https://nvl.lu/evenement/relais-pour-la-vie-relaishome/
CATEGORIES:Extern
ATTACH;FMTTYPE=image/jpeg:https://nvl.lu/wp-content/uploads/2020/04/RelaisPourLaVie_atHome.jpg
END:VEVENT
END:VCALENDAR