BEGIN:VCALENDAR
VERSION:2.0
PRODID:-//Nederlandse Vereniging Luxemburg - ECPv5.8.1//NONSGML v1.0//EN
CALSCALE:GREGORIAN
METHOD:PUBLISH
X-WR-CALNAME:Nederlandse Vereniging Luxemburg
X-ORIGINAL-URL:https://nvl.lu
X-WR-CALDESC:Evenementen voor Nederlandse Vereniging Luxemburg
BEGIN:VTIMEZONE
TZID:Europe/Luxembourg
BEGIN:DAYLIGHT
TZOFFSETFROM:+0100
TZOFFSETTO:+0200
TZNAME:CEST
DTSTART:20210328T010000
END:DAYLIGHT
BEGIN:STANDARD
TZOFFSETFROM:+0200
TZOFFSETTO:+0100
TZNAME:CET
DTSTART:20211031T010000
END:STANDARD
END:VTIMEZONE
BEGIN:VEVENT
DTSTART;VALUE=DATE:20210327
DTEND;VALUE=DATE:20210329
DTSTAMP:20210723T112236
CREATED:20210216T092111Z
LAST-MODIFIED:20210216T092111Z
UID:5099-1616803200-1616975999@nvl.lu
SUMMARY:Relais pour la Vie 2021
DESCRIPTION:In een andere vorm dan normaal\, maar ook dit jaar wordt de sponsorloop Relais pour la Vie georganiseerd. Gedurende dit evenement wordt er geld ingezameld voor de Kankerstichting. Uiteraard willen we net als andere jaren graag ons steentje bijdragen doormiddel van een aantal deelnemende teams. Meer informatie kan je ook terug vinden op de website van de Relais. \nHet is de bedoeling dat er per team 24 uur gelopen wordt in het weekend van 27 en 28 maart . Dit mag wandelen\, joggen of hardlopen zijn\, naar eigen invulling. Het maakt niet uit op welk tijdstip je loopt\, maar alle loopminuten binnen je team worden bij elkaar opgeteld en gezamenlijk maak je de 24 uur vol. \nJe kan je inschrijven door een email te sturen naar contact@nvl.lu en daarin\, naast je naam\, te vermelden hoeveel tijd je voor je rekening wil nemen (het minimum is een half uur\, het maximum 2 uur). We maken per team een groep aan op WhatsApp zodat we elkaar op de hoogte kunnen houden gedurende het weekend. Graag dus ook even je mobiele telefoonnummer doorgeven. Geen WhatsApp? Geen probleem\, dan vinden we zeker een andere manier om elkaar te spreken! \nWe hopen op een grote opkomst zodat we met meerdere teams kunnen deelnemen! De NVL neemt de kosten voor het inschrijven voor zijn rekening\, maar als je wilt bijdragen aan het goede werk van de Kankerstichting kan je een donatie naar ons overmaken welke wij vervolgens verzamelen en gezamenlijk doneren. Je kan je donatie overmaken op IBAN nummer LU51 0030 3121 9078 0000 en BIC BGLL LULL onder vermelding van “donatie Relais pour la Vie”. \n\n\n	Gerelateerd
URL:https://nvl.lu/evenement/relais-pour-la-vie-2021/
CATEGORIES:Extern
ATTACH;FMTTYPE=image/png:https://nvl.lu/wp-content/uploads/2019/10/Relais2019.png
ORGANIZER;CN="Erik%20Schoof":MAILTO:contact@nvl.lu
END:VEVENT
END:VCALENDAR