BEGIN:VCALENDAR
VERSION:2.0
PRODID:-//Nederlandse Vereniging Luxemburg - ECPv5.8.1//NONSGML v1.0//EN
CALSCALE:GREGORIAN
METHOD:PUBLISH
X-WR-CALNAME:Nederlandse Vereniging Luxemburg
X-ORIGINAL-URL:https://nvl.lu
X-WR-CALDESC:Evenementen voor Nederlandse Vereniging Luxemburg
BEGIN:VTIMEZONE
TZID:Europe/Luxembourg
BEGIN:DAYLIGHT
TZOFFSETFROM:+0100
TZOFFSETTO:+0200
TZNAME:CEST
DTSTART:20210328T010000
END:DAYLIGHT
BEGIN:STANDARD
TZOFFSETFROM:+0200
TZOFFSETTO:+0100
TZNAME:CET
DTSTART:20211031T010000
END:STANDARD
END:VTIMEZONE
BEGIN:VEVENT
DTSTART;TZID=Europe/Luxembourg:20210225T190000
DTEND;TZID=Europe/Luxembourg:20210225T210000
DTSTAMP:20210723T112220
CREATED:20201221T141232Z
LAST-MODIFIED:20210216T091543Z
UID:5066-1614279600-1614286800@nvl.lu
SUMMARY:Online kookworkshop
DESCRIPTION:Een mooi event aan het begin van het nieuwe jaar! Op donderdag 25 februari aanstaande organiseren we een online kookworkshop waar je\, onder leiding van Barbara Valetta van Kookstudio Abruzzo\, een Italiaans drie-gangen menu kookt. De workshop begint om 19.00 uur\, inloggen kan vanaf 18.30 zodat we meteen van start kunnen. \nBarbara heeft voor ons het volgende menu samengesteld: \nPrimo: pappardelle al ragu\nContorno: zucchine ripiene (gevulde courgette)\nDolci: panna cotta met rood fruit \nWij hebben het afgelopen jaar weinig kunnen reizen maar met deze workshop genieten we toch een beetje van zonnig Italia! \nMeer details volgen in januari\, maar houd de datum vast vrij en neem eens een kijkje op de website van onze chef Barbara! \n\n\n	Gerelateerd
URL:https://nvl.lu/evenement/online-kookworkshop/
CATEGORIES:NVL
ATTACH;FMTTYPE=image/jpeg:https://nvl.lu/wp-content/uploads/2020/12/131985314_2097188950415612_2359339777271398920_n.jpg
ORGANIZER;CN="Jan-Willem%20Barentz":MAILTO:contact@nvl.lu
END:VEVENT
END:VCALENDAR