BEGIN:VCALENDAR
VERSION:2.0
PRODID:-//Nederlandse Vereniging Luxemburg - ECPv5.8.1//NONSGML v1.0//EN
CALSCALE:GREGORIAN
METHOD:PUBLISH
X-WR-CALNAME:Nederlandse Vereniging Luxemburg
X-ORIGINAL-URL:https://nvl.lu
X-WR-CALDESC:Evenementen voor Nederlandse Vereniging Luxemburg
BEGIN:VTIMEZONE
TZID:Europe/Luxembourg
BEGIN:DAYLIGHT
TZOFFSETFROM:+0100
TZOFFSETTO:+0200
TZNAME:CEST
DTSTART:20200329T010000
END:DAYLIGHT
BEGIN:STANDARD
TZOFFSETFROM:+0200
TZOFFSETTO:+0100
TZNAME:CET
DTSTART:20201025T010000
END:STANDARD
END:VTIMEZONE
BEGIN:VEVENT
DTSTART;VALUE=DATE:20200425
DTEND;VALUE=DATE:20200429
DTSTAMP:20210723T111934
CREATED:20200421T165032Z
LAST-MODIFIED:20200425T162639Z
UID:4790-1587780000-1588039199@nvl.lu
SUMMARY:Online Koningsdag 2020
DESCRIPTION:Vanwege het afgelasten van de gebruikelijke koningsdag activiteiten in Nederland en Luxemburg hebben we bij de NVL een leuk alternatief bedacht. \nFotowedstrijd – Online Konginsdag 2020\nMaak een ludieke foto in het thema: ‘denkend aan Holland…’ upload je foto op de NVL facebook pagina en maak kans op mooie prijzen. \n  \nWAT MOET JE DOEN?\nUpload je foto(s) in comments onder het evenement op Facebook:\nhttps://www.facebook.com/events/549678329274204/\nOF\nstuur een mail naar contact@nvl.lu \n(foto’s kunnen gebruikt worden voor NVL promotie doeleinden) \n1ste Prijs\nPizza’s thuisbezorgd van Comme a la maison\n2de Prijs\nDe enige echte NVL paraplu \n \n \n\n\n	Gerelateerd
URL:https://nvl.lu/evenement/online-koningsdag-2020/
CATEGORIES:NVL
ATTACH;FMTTYPE=image/png:https://nvl.lu/wp-content/uploads/2019/02/koningsdag.png
END:VEVENT
END:VCALENDAR