BEGIN:VCALENDAR
VERSION:2.0
PRODID:-//Nederlandse Vereniging Luxemburg - ECPv5.8.1//NONSGML v1.0//EN
CALSCALE:GREGORIAN
METHOD:PUBLISH
X-WR-CALNAME:Nederlandse Vereniging Luxemburg
X-ORIGINAL-URL:https://nvl.lu
X-WR-CALDESC:Evenementen voor Nederlandse Vereniging Luxemburg
BEGIN:VTIMEZONE
TZID:Europe/Luxembourg
BEGIN:DAYLIGHT
TZOFFSETFROM:+0100
TZOFFSETTO:+0200
TZNAME:CEST
DTSTART:20200329T010000
END:DAYLIGHT
BEGIN:STANDARD
TZOFFSETFROM:+0200
TZOFFSETTO:+0100
TZNAME:CET
DTSTART:20201025T010000
END:STANDARD
END:VTIMEZONE
BEGIN:VEVENT
DTSTART;TZID=Europe/Luxembourg:20201031T100000
DTEND;TZID=Europe/Luxembourg:20201031T170000
DTSTAMP:20210723T112134
CREATED:20201006T181838Z
LAST-MODIFIED:20201026T192624Z
UID:4973-1604138400-1604163600@nvl.lu
SUMMARY:AFGELAST - NVL Puzzelrit - My car is my Castle
DESCRIPTION:AFGELAST \nVanwege de nieuwe maatregelen aangekondigd door de Luxemburgse overheid op 23 oktober\, hebben wij besloten dat het niet verantwoord is om 30 mensen bij elkaar te brengen ook al zouden de tafels van het restaurant aan de regels voldoen. \nWe hebben een routeboek klaar liggen\, en deze halen we in de lente weer onder het stof vandaag om de Rally alsnog te rijden! Hopelijk tot dan. Als u zich al had aangemeld en betaald\, krijgt u van ons bericht ivm de restitutie. \n  \n  \n  \nOp zaterdag 31 oktober organiseren we de eerste editie van de NVL puzzelrit! We gaan met de auto een tour maken door Luxemburg met onderweg de nodige uitdaging in de vorm van vragen en opdrachten in het thema “My car is my castle”. Onderweg leggen we aan voor een lekkere lunch en bij terugkomst verzorgen we nog een hapje en een drankje. \nKosten EUR 30 per persoon* \nVorm een team met je partner\, vriend\, vriendin\, buurvrouw of collega en schrijf je in! Graag aanmelden door een email te sturen voor dinsdag 27 oktober aan contact@nvl.lu en de eigen bijdrage over te maken op IBAN nummer LU51 0030 3121 9078 0000 en BIC BGLL LULL onder vermelding van “puzzelrit + je naam” . Uiteraard houden we rekening met alle Corona maatregelen die door de Luxemburgse overheid getroffen zijn en vragen jullie allemaal een masker mee te nemen. \nGraag tot dan! \n* Leden van de NVL hebben te allen tijde voorrang tijdens de door ons georganiseerde evenementen. Indien er nog plekken beschikbaar zijn kunnen niet-leden deelnemen aan dit evenement tegen een vergoeding van EUR 40 \n\n\n	Gerelateerd
URL:https://nvl.lu/evenement/nvl-puzzelrit-my-car-is-my-castle/
LOCATION:Glacis\, Glacis\, Luxemburg\, Luxemburg
CATEGORIES:NVL
ATTACH;FMTTYPE=image/jpeg:https://nvl.lu/wp-content/uploads/2020/10/NVL-Puzzelrit.jpg
ORGANIZER;CN="Jan-Willem%20Barentz":MAILTO:contact@nvl.lu
END:VEVENT
END:VCALENDAR