BEGIN:VCALENDAR
VERSION:2.0
PRODID:-//Nederlandse Vereniging Luxemburg - ECPv6.15.20//NONSGML v1.0//EN
CALSCALE:GREGORIAN
METHOD:PUBLISH
X-WR-CALNAME:Nederlandse Vereniging Luxemburg
X-ORIGINAL-URL:https://nvl.lu
X-WR-CALDESC:Evenementen voor Nederlandse Vereniging Luxemburg
REFRESH-INTERVAL;VALUE=DURATION:PT1H
X-Robots-Tag:noindex
X-PUBLISHED-TTL:PT1H
BEGIN:VTIMEZONE
TZID:Europe/Luxembourg
BEGIN:DAYLIGHT
TZOFFSETFROM:+0100
TZOFFSETTO:+0200
TZNAME:CEST
DTSTART:20250330T010000
END:DAYLIGHT
BEGIN:STANDARD
TZOFFSETFROM:+0200
TZOFFSETTO:+0100
TZNAME:CET
DTSTART:20251026T010000
END:STANDARD
BEGIN:DAYLIGHT
TZOFFSETFROM:+0100
TZOFFSETTO:+0200
TZNAME:CEST
DTSTART:20260329T010000
END:DAYLIGHT
BEGIN:STANDARD
TZOFFSETFROM:+0200
TZOFFSETTO:+0100
TZNAME:CET
DTSTART:20261025T010000
END:STANDARD
BEGIN:DAYLIGHT
TZOFFSETFROM:+0100
TZOFFSETTO:+0200
TZNAME:CEST
DTSTART:20270328T010000
END:DAYLIGHT
BEGIN:STANDARD
TZOFFSETFROM:+0200
TZOFFSETTO:+0100
TZNAME:CET
DTSTART:20271031T010000
END:STANDARD
END:VTIMEZONE
BEGIN:VEVENT
DTSTART;TZID=Europe/Luxembourg:20260115T190000
DTEND;TZID=Europe/Luxembourg:20260115T190000
DTSTAMP:20260425T013608
CREATED:20251215T151241Z
LAST-MODIFIED:20251215T151241Z
UID:6585-1768503600-1768503600@nvl.lu
SUMMARY:NVL NIEUWJAARSBORREL
DESCRIPTION:De traditionele nieuwjaarsborrel van de NVL wordt gehouden op 15 januari a.s. in La Grocerie\, GRUND. \nVoor het inkopen van de hapjes is het fijn als je je even aanmeldt via het formulier\, maar spontaan langskomen mag ook. \nDit evenement is alleen voor leden van de NVL.\nNog geen lid? Word het nu! \n  \nGa hier naar het aanmeldingsformulier \nDit delen:\n				Share op Facebook (Opent in een nieuw venster)\n				Facebook\n			\n				Delen op WhatsApp (Opent in een nieuw venster)\n				WhatsApp\n			\n				Delen op X (Opent in een nieuw venster)\n				X\n			\n				E-mail een link naar een vriend (Opent in een nieuw venster)\n				E-mail\n			\n				Delen op LinkedIn (Opent in een nieuw venster)\n				LinkedIn\n			\n				Delen op Telegram (Opent in een nieuw venster)\n				Telegram\n			\n				Delen op Pinterest (Opent in een nieuw venster)\n				Pinterest\n			Vind ik leuk:Vind-ik-leuk Aan het laden...\n\n	Gerelateerd
URL:https://nvl.lu/evenement/nvl-nieuwjaarsborrel/
LOCATION:La Grocerie\, 12\, Rue Munster\, GRUND\, Luxembourg
CATEGORIES:NVL
ATTACH;FMTTYPE=image/jpeg:https://nvl.lu/wp-content/uploads/2025/12/Nieuwjaarsborrel26.jpg
END:VEVENT
END:VCALENDAR