BEGIN:VCALENDAR
VERSION:2.0
PRODID:-//Nederlandse Vereniging Luxemburg - ECPv5.8.1//NONSGML v1.0//EN
CALSCALE:GREGORIAN
METHOD:PUBLISH
X-WR-CALNAME:Nederlandse Vereniging Luxemburg
X-ORIGINAL-URL:https://nvl.lu
X-WR-CALDESC:Evenementen voor Nederlandse Vereniging Luxemburg
BEGIN:VTIMEZONE
TZID:Europe/Luxembourg
BEGIN:DAYLIGHT
TZOFFSETFROM:+0100
TZOFFSETTO:+0200
TZNAME:CEST
DTSTART:20200329T010000
END:DAYLIGHT
BEGIN:STANDARD
TZOFFSETFROM:+0200
TZOFFSETTO:+0100
TZNAME:CET
DTSTART:20201025T010000
END:STANDARD
END:VTIMEZONE
BEGIN:VEVENT
DTSTART;TZID=Europe/Luxembourg:20200425T160000
DTEND;TZID=Europe/Luxembourg:20200425T160000
DTSTAMP:20210723T111918
CREATED:20200420T161705Z
LAST-MODIFIED:20200420T161705Z
UID:4782-1587830400-1587830400@nvl.lu
SUMMARY:NTC Koningsdag Thuisblijfversie
DESCRIPTION:Beste ouders en kinderen uit Luxemburg\, \nNu we Koningsdag dit jaar niet kunnen vieren zoals we dat gewend zijn\, hebben we bij het NTC een super leuke interactieve middag georganiseerd voor alle Nederlandstalige gezinnen uit Luxemburg. \nSchrijf je voor 23 april in en doe mee met deze Oer-Hollandse virtuele Koningsdag 2020. \nDatum: 25 april 2020\nTijd: 14:00 – 15:30\nLocatie: Je eigen balkon\, achtertuin\, huis of appartement. \nDeze thuisblijfversie van de Koningsdag zal bestaan uit maak-\, beweeg-\, en creatieve opdrachten die je met het hele gezin kan doen. Je krijgt verdere instructie via een youtube filmpje op 25 april. \nInschrijven kan via deze link tot uiterlijk 23 april. Volg ons op Facebook \n\n\n	Gerelateerd
URL:https://nvl.lu/evenement/ntc-koningsdag-thuisblijfversie/
CATEGORIES:Extern
ATTACH;FMTTYPE=image/jpeg:https://nvl.lu/wp-content/uploads/2020/04/NTC-ThuisblijfKoningsdag.jpg
ORGANIZER;CN="Jojanneke%20de%20Jong":MAILTO:contact@nvl.lu
END:VEVENT
END:VCALENDAR