BEGIN:VCALENDAR
VERSION:2.0
PRODID:-//Nederlandse Vereniging Luxemburg - ECPv5.8.1//NONSGML v1.0//EN
CALSCALE:GREGORIAN
METHOD:PUBLISH
X-WR-CALNAME:Nederlandse Vereniging Luxemburg
X-ORIGINAL-URL:https://nvl.lu
X-WR-CALDESC:Evenementen voor Nederlandse Vereniging Luxemburg
BEGIN:VTIMEZONE
TZID:Europe/Luxembourg
BEGIN:DAYLIGHT
TZOFFSETFROM:+0100
TZOFFSETTO:+0200
TZNAME:CEST
DTSTART:20200329T010000
END:DAYLIGHT
BEGIN:STANDARD
TZOFFSETFROM:+0200
TZOFFSETTO:+0100
TZNAME:CET
DTSTART:20201025T010000
END:STANDARD
END:VTIMEZONE
BEGIN:VEVENT
DTSTART;TZID=Europe/Luxembourg:20200115T200000
DTEND;TZID=Europe/Luxembourg:20200116T000000
DTSTAMP:20210723T111334
CREATED:20191115T171303Z
LAST-MODIFIED:20191115T171303Z
UID:4541-1579118400-1579132800@nvl.lu
SUMMARY:Nieuwjaarsborrel 2020
DESCRIPTION:Save the Date! \nZet de datum alvast in je agenda. Op woensdag 15 januari 2020 houdt de NVL haar nieuwjaarsborrel. Dit jaar zijn we bij Knokke Out in Clausen. \nMeer details volgen. \n\n\n	Gerelateerd
URL:https://nvl.lu/evenement/nieuwjaarsborrel-2020/
LOCATION:Knokke Out\, 15 Rives de Clausen\, Luxemburg\, L-2165\, Luxemburg
CATEGORIES:NVL
ATTACH;FMTTYPE=image/jpeg:https://nvl.lu/wp-content/uploads/2017/06/Champagne-kurk.jpg
END:VEVENT
END:VCALENDAR