BEGIN:VCALENDAR
VERSION:2.0
PRODID:-//Nederlandse Vereniging Luxemburg - ECPv6.15.20//NONSGML v1.0//EN
CALSCALE:GREGORIAN
METHOD:PUBLISH
X-WR-CALNAME:Nederlandse Vereniging Luxemburg
X-ORIGINAL-URL:https://nvl.lu
X-WR-CALDESC:Evenementen voor Nederlandse Vereniging Luxemburg
REFRESH-INTERVAL;VALUE=DURATION:PT1H
X-Robots-Tag:noindex
X-PUBLISHED-TTL:PT1H
BEGIN:VTIMEZONE
TZID:Europe/Luxembourg
BEGIN:DAYLIGHT
TZOFFSETFROM:+0100
TZOFFSETTO:+0200
TZNAME:CEST
DTSTART:20250330T010000
END:DAYLIGHT
BEGIN:STANDARD
TZOFFSETFROM:+0200
TZOFFSETTO:+0100
TZNAME:CET
DTSTART:20251026T010000
END:STANDARD
BEGIN:DAYLIGHT
TZOFFSETFROM:+0100
TZOFFSETTO:+0200
TZNAME:CEST
DTSTART:20260329T010000
END:DAYLIGHT
BEGIN:STANDARD
TZOFFSETFROM:+0200
TZOFFSETTO:+0100
TZNAME:CET
DTSTART:20261025T010000
END:STANDARD
BEGIN:DAYLIGHT
TZOFFSETFROM:+0100
TZOFFSETTO:+0200
TZNAME:CEST
DTSTART:20270328T010000
END:DAYLIGHT
BEGIN:STANDARD
TZOFFSETFROM:+0200
TZOFFSETTO:+0100
TZNAME:CET
DTSTART:20271031T010000
END:STANDARD
END:VTIMEZONE
BEGIN:VEVENT
DTSTART;TZID=Europe/Luxembourg:20260326T000000
DTEND;TZID=Europe/Luxembourg:20260326T000000
DTSTAMP:20260425T013654
CREATED:20260219T093927Z
LAST-MODIFIED:20260312T090221Z
UID:6648-1774483200-1774483200@nvl.lu
SUMMARY:MUSEUM BEZOEK EN RONDLEIDING
DESCRIPTION:Rondleiding in het National Musée met Ruud Priem. \n  \nOp 26 maart van 18:00 tot 19:30 uur organiseert de Nederlandse Vereniging een bijzondere rondleiding in het MNAHA (Musée National d’Archéologie\, d’Histoire et d’Art). \nDe rondleiding wordt verzorgd door Ruud Priem\, Head & Curator of Fine Arts in het museum. Als Nederlander én gepassioneerd verhalenverteller neemt hij ons mee langs de Nederlandse verhalen achter verschillende kunstwerken uit de collectie – van Koekkoek tot Erwin Olaf. Verwacht dus niet alleen kunst\, maar ook verrassende verhalen en interessante inzichten. \nVerzamelen: foyer van het museum (ontvangstbalie/garderobe) \nNa afloop gaan we gezellig nog een drankje doen in de buurt van het museum (locatie volgt). \nWe hopen jullie daar te zien! \nAanmelden kan hier\nDit delen:\n				Share op Facebook (Opent in een nieuw venster)\n				Facebook\n			\n				Delen op WhatsApp (Opent in een nieuw venster)\n				WhatsApp\n			\n				Delen op X (Opent in een nieuw venster)\n				X\n			\n				E-mail een link naar een vriend (Opent in een nieuw venster)\n				E-mail\n			\n				Delen op LinkedIn (Opent in een nieuw venster)\n				LinkedIn\n			\n				Delen op Telegram (Opent in een nieuw venster)\n				Telegram\n			\n				Delen op Pinterest (Opent in een nieuw venster)\n				Pinterest\n			Vind ik leuk:Vind-ik-leuk Aan het laden...\n\n	Gerelateerd
URL:https://nvl.lu/evenement/museum-bezoek-en-rondleiding/
LOCATION:Musée National d’Histoire et d’Art\, Marché-aux-Poissons\, Luxemburg\, L- 2345\, Luxemburg
CATEGORIES:NVL
ATTACH;FMTTYPE=image/jpeg:https://nvl.lu/wp-content/uploads/2026/02/Museum-Rondleiding.jpg
END:VEVENT
END:VCALENDAR