BEGIN:VCALENDAR
VERSION:2.0
PRODID:-//Nederlandse Vereniging Luxemburg - ECPv5.8.1//NONSGML v1.0//EN
CALSCALE:GREGORIAN
METHOD:PUBLISH
X-WR-CALNAME:Nederlandse Vereniging Luxemburg
X-ORIGINAL-URL:https://nvl.lu
X-WR-CALDESC:Evenementen voor Nederlandse Vereniging Luxemburg
BEGIN:VTIMEZONE
TZID:Europe/Luxembourg
BEGIN:DAYLIGHT
TZOFFSETFROM:+0100
TZOFFSETTO:+0200
TZNAME:CEST
DTSTART:20190331T010000
END:DAYLIGHT
BEGIN:STANDARD
TZOFFSETFROM:+0200
TZOFFSETTO:+0100
TZNAME:CET
DTSTART:20191027T010000
END:STANDARD
END:VTIMEZONE
BEGIN:VEVENT
DTSTART;TZID=Europe/Luxembourg:20191019T160000
DTEND;TZID=Europe/Luxembourg:20191019T200000
DTSTAMP:20210723T111212
CREATED:20191014T153231Z
LAST-MODIFIED:20191014T153413Z
UID:4505-1571500800-1571515200@nvl.lu
SUMMARY:Knutselmiddag oktober 2019
DESCRIPTION:Zaterdag 19 oktober 2019 is het alweer de eerste knutselmiddag van dit schooljaar! \nEen creatieve en gezellige knutselmiddag\nmet een boel leuke projecten. \nHet is van 14.00 tot 16.00 uur. \nJij komt toch ook? Tot dan! \nHet adres van de knutselclub is: 202\, rue Principale\, Münsbach\nin voormalige school\, kruising met Rue Beyren\n(tegenover Café de la Gare\, aan de hoofdstraat in Münsbach) \nDe Knutselclub biedt knutselmiddagen aan voor Nederlandstalige kinderen tussen 6 en 11 jaar. De bijdrage is 4 Euro per kind: hiervoor wordt het materiaal\, een drankje en een hapje aangeboden. \nVoor informatie: knutselclubinluxemburg@gmail.com \n\n\n	Gerelateerd
URL:https://nvl.lu/evenement/knutselmiddag-oktober-2019/
LOCATION:Knutselclub\, 202\, Rue Principale\, Münsbach\, Luxemburg
CATEGORIES:Extern
ATTACH;FMTTYPE=image/png:https://nvl.lu/wp-content/uploads/2019/01/Knutselclub-720x400.png
ORGANIZER;CN="Marc%20van%20der%20Snoek":MAILTO:knutselclubinluxemburg@gmail.com
END:VEVENT
END:VCALENDAR