BEGIN:VCALENDAR
VERSION:2.0
PRODID:-//Nederlandse Vereniging Luxemburg - ECPv4.9.14//NONSGML v1.0//EN
CALSCALE:GREGORIAN
METHOD:PUBLISH
X-WR-CALNAME:Nederlandse Vereniging Luxemburg
X-ORIGINAL-URL:https://nvl.lu
X-WR-CALDESC:Events for Nederlandse Vereniging Luxemburg
BEGIN:VTIMEZONE
TZID:UTC
BEGIN:STANDARD
TZOFFSETFROM:+0000
TZOFFSETTO:+0000
TZNAME:UTC
DTSTART:20190101T000000
END:STANDARD
END:VTIMEZONE
BEGIN:VEVENT
DTSTART;TZID=UTC:20191214T140000
DTEND;TZID=UTC:20191214T160000
DTSTAMP:20200125T034653
CREATED:20191203T182522Z
LAST-MODIFIED:20191203T182522Z
UID:4601-1576332000-1576339200@nvl.lu
SUMMARY:Knutselmiddag december2019
DESCRIPTION:Zaterdag 14 december 2019 knutselen we weer! \nEen creatieve en gezellige knutselmiddag\nmet een boel leuke projecten. \nHet is van 14.00 tot 16.00 uur. \nJij komt toch ook? Tot dan! \nHet adres van de knutselclub is: 202\, rue Principale\, Münsbach\nin voormalige school\, kruising met Rue Beyren\n(tegenover Café de la Gare\, aan de hoofdstraat in Münsbach) \nDe Knutselclub biedt knutselmiddagen aan voor Nederlandstalige kinderen tussen 6 en 11 jaar. De bijdrage is 4 Euro per kind: hiervoor wordt het materiaal\, een drankje en een hapje aangeboden. \nVoor informatie: knutselclubinluxemburg@gmail.com \n
URL:https://nvl.lu/evenement/knutselmiddag-december2019/
LOCATION:Knutselclub\, 202\, Rue Principale\, Münsbach\, Luxemburg
CATEGORIES:Extern
ATTACH;FMTTYPE=image/png:https://nvl.lu/wp-content/uploads/2019/01/Knutselclub-720x400.png
ORGANIZER;CN="Marc%20van%20der%20Snoek":MAILTO:knutselclubinluxemburg@gmail.com
END:VEVENT
END:VCALENDAR