BEGIN:VCALENDAR
VERSION:2.0
PRODID:-//Nederlandse Vereniging Luxemburg - ECPv5.8.1//NONSGML v1.0//EN
CALSCALE:GREGORIAN
METHOD:PUBLISH
X-WR-CALNAME:Nederlandse Vereniging Luxemburg
X-ORIGINAL-URL:https://nvl.lu
X-WR-CALDESC:Evenementen voor Nederlandse Vereniging Luxemburg
BEGIN:VTIMEZONE
TZID:Europe/Luxembourg
BEGIN:DAYLIGHT
TZOFFSETFROM:+0100
TZOFFSETTO:+0200
TZNAME:CEST
DTSTART:20200329T010000
END:DAYLIGHT
BEGIN:STANDARD
TZOFFSETFROM:+0200
TZOFFSETTO:+0100
TZNAME:CET
DTSTART:20201025T010000
END:STANDARD
END:VTIMEZONE
BEGIN:VEVENT
DTSTART;TZID=Europe/Luxembourg:20200819T200000
DTEND;TZID=Europe/Luxembourg:20200819T220000
DTSTAMP:20210723T112033
CREATED:20200807T164033Z
LAST-MODIFIED:20200807T164033Z
UID:4942-1597867200-1597874400@nvl.lu
SUMMARY:Jeu de Boules avond
DESCRIPTION:Op woensdagavond 19 augustus organiseren we een avondje jeu de boules bij Kyosk in het park op Kirchberg naast d’Coque. We beginnen om 18.00 uur met een aperitif waarna om 18.30 uur het toernooi van start gaat. Gedurende de avond zorgen wij uiteraard ook voor de innerlijke mens en serveren we Flammkuchen en een drankje. \nOm deel te nemen als speler of supporter graag even aanmelden door een email te sturen aan contact@nvl.lu voor dinsdag 18 augustus. Uiteraard houden we rekening met alle Corona maatregelen die door de Luxemburgse overheid getroffen zijn. We zorgen ervoor dat groepen niet groter zijn dat 10 personen en vragen jullie allemaal een masker mee te nemen. Het evenement vindt volledig plaats in de buitenlucht. \nWe hopen jullie op 19 augustus te zien! \n\n\n	Gerelateerd
URL:https://nvl.lu/evenement/jeu-de-boules-avond/
LOCATION:Kyosk\, 10 Rue Léon Hengen\, Luxemburg\, 1745\, Luxemburg
CATEGORIES:NVL
ATTACH;FMTTYPE=image/jpeg:https://nvl.lu/wp-content/uploads/2020/08/Jeu-de-boules.jpg
ORGANIZER;CN="Sanne%20van%20den%20Oord-Boersma":MAILTO:contact@nvl.lu
END:VEVENT
END:VCALENDAR