BEGIN:VCALENDAR
VERSION:2.0
PRODID:-//Nederlandse Vereniging Luxemburg - ECPv5.8.1//NONSGML v1.0//EN
CALSCALE:GREGORIAN
METHOD:PUBLISH
X-WR-CALNAME:Nederlandse Vereniging Luxemburg
X-ORIGINAL-URL:https://nvl.lu
X-WR-CALDESC:Evenementen voor Nederlandse Vereniging Luxemburg
BEGIN:VTIMEZONE
TZID:Europe/Luxembourg
BEGIN:DAYLIGHT
TZOFFSETFROM:+0100
TZOFFSETTO:+0200
TZNAME:CEST
DTSTART:20200329T010000
END:DAYLIGHT
BEGIN:STANDARD
TZOFFSETFROM:+0200
TZOFFSETTO:+0100
TZNAME:CET
DTSTART:20201025T010000
END:STANDARD
END:VTIMEZONE
BEGIN:VEVENT
DTSTART;TZID=Europe/Luxembourg:20201015T170000
DTEND;TZID=Europe/Luxembourg:20201015T190000
DTSTAMP:20210723T112119
CREATED:20201011T180324Z
LAST-MODIFIED:20201011T180324Z
UID:4990-1602781200-1602788400@nvl.lu
SUMMARY:Europe in crisis time –  State of play on European Union cooperation
DESCRIPTION:Invitation \nThe Embassy of the Kingdom of the Netherlands\nHas the great pleasure to invite you to the live streaming of the lecture\n“Europe in crisis time – State of play on European Union cooperation”\nBy Professor Mathieu Segers \nLIVE STREAMING \nMathieu Segers is Professor of Contemporary European History and European Integration at Maastricht University and one of the leading voices on EU matters in the Netherlands.\nProfessor Segers is also a columnist for Het Financieele Dagblad and De Groene Amsterdammer. His research focuses on the history and pre-history of European integration and trans-Atlantic relations and current European and EU affairs. His book on ‘The Netherlands and European integration – 1950 to present’ – won the Dutch prize for best political book in 2013 and was re-published in an updated version in 2019 and in English translation with Amsterdam University Press in 2020. \nH.E. Ambassador Cees Bansema will introduce Mathieu Segers. Q&A’s with Douwe Miedema\, Editor-in-Chief of the Luxembourg Times will take place after the lecture. \nPlease confirm your participation by 13 October and send a mail to lux-events@minbuza.nl .\nYou will receive a confirmation mail with all instructions. \n\n\n	Gerelateerd
URL:https://nvl.lu/evenement/europe-in-crisis-time-state-of-play-on-european-union-cooperation/
LOCATION:Abbaye de Neumünster\, 28 Rue Münster\, Luxembourg City\, 2160\, Luxemburg
CATEGORIES:Nederlandse Ambassade
ATTACH;FMTTYPE=image/jpeg:https://nvl.lu/wp-content/uploads/2020/10/Mathieu_Segers.jpg
ORGANIZER;CN="Embassy%20NL%20Team":MAILTO:lux-events@minbuza.nl
END:VEVENT
END:VCALENDAR