BEGIN:VCALENDAR
VERSION:2.0
PRODID:-//Nederlandse Vereniging Luxemburg - ECPv5.8.1//NONSGML v1.0//EN
CALSCALE:GREGORIAN
METHOD:PUBLISH
X-WR-CALNAME:Nederlandse Vereniging Luxemburg
X-ORIGINAL-URL:https://nvl.lu
X-WR-CALDESC:Evenementen voor Nederlandse Vereniging Luxemburg
BEGIN:VTIMEZONE
TZID:Europe/Luxembourg
BEGIN:DAYLIGHT
TZOFFSETFROM:+0100
TZOFFSETTO:+0200
TZNAME:CEST
DTSTART:20190331T010000
END:DAYLIGHT
BEGIN:STANDARD
TZOFFSETFROM:+0200
TZOFFSETTO:+0100
TZNAME:CET
DTSTART:20191027T010000
END:STANDARD
END:VTIMEZONE
BEGIN:VEVENT
DTSTART;TZID=Europe/Luxembourg:20191109T180000
DTEND;TZID=Europe/Luxembourg:20191109T200000
DTSTAMP:20210723T111301
CREATED:20191027T140033Z
LAST-MODIFIED:20191027T140631Z
UID:4517-1573322400-1573329600@nvl.lu
SUMMARY:Entr'acte
DESCRIPTION:ENTR’ACTE\nwerkgroep van de NPG (Nederlandse Protestantse Gemeenschap)\norganiseert\nop zaterdag 9 november\, 17.00 uur \n(voor)lezing in het Nederlands verzorgd door Steven Weinberg (oud-leraar van de Europese School) samen met Wim van Heesen uit zijn boek “Twee reizigers naar Breslau”.\nDit boek gaat over de deportatie van zijn vader naar Auschwitz\, de dodenmarsen en zijn bevrijding door het Rode Leger. Steven heeft 3 reizen gemaakt in zijn vaders voetsporen\, in 1997 alleen\, in 2002 met zijn beide zonen en in 2004 met zijn vrouw.\nLet op: de locatie is gewijzigd naar het cultureel centrum van Bertrange: Beim Schlass\, gebouw Schauerbuerg\, 2e verdieping (er is een lift)\, Bertrange. Aansluitend\, voor wie wil\, maaltijd in Italiaans restaurant Mio & Mio in de City Concorde\, 80\, route de Longwy\, op verdieping –1 in de City Concorde\, L-8060 Bertrange.\nEntrée: 5 € p.p. (scholieren/studenten: gratis); de maaltijd betaalt ieder voor zich.\nAanmelden tot uiterlijk 6 november bij Ati van Dijk\, per telefoon: 691 331240 of per e-mail: ativandijk@gmail.com \n\n\n	Gerelateerd
URL:https://nvl.lu/evenement/entracte/
LOCATION:Beim Schlass\, 7 Beim Schlass\, Bertrange\, 8058\, Luxemburg
CATEGORIES:Extern
ATTACH;FMTTYPE=image/png:https://nvl.lu/wp-content/uploads/2019/10/StevenWeinberg-Twee-Reizigers-naar-Breslau.png
ORGANIZER;CN="Ati%20van%20Dijk":MAILTO:ativandijk@gmail.com
END:VEVENT
END:VCALENDAR