BEGIN:VCALENDAR
VERSION:2.0
PRODID:-//Nederlandse Vereniging Luxemburg - ECPv6.15.20//NONSGML v1.0//EN
CALSCALE:GREGORIAN
METHOD:PUBLISH
X-WR-CALNAME:Nederlandse Vereniging Luxemburg
X-ORIGINAL-URL:https://nvl.lu
X-WR-CALDESC:Evenementen voor Nederlandse Vereniging Luxemburg
REFRESH-INTERVAL;VALUE=DURATION:PT1H
X-Robots-Tag:noindex
X-PUBLISHED-TTL:PT1H
BEGIN:VTIMEZONE
TZID:Europe/Luxembourg
BEGIN:DAYLIGHT
TZOFFSETFROM:+0100
TZOFFSETTO:+0200
TZNAME:CEST
DTSTART:20250330T010000
END:DAYLIGHT
BEGIN:STANDARD
TZOFFSETFROM:+0200
TZOFFSETTO:+0100
TZNAME:CET
DTSTART:20251026T010000
END:STANDARD
BEGIN:DAYLIGHT
TZOFFSETFROM:+0100
TZOFFSETTO:+0200
TZNAME:CEST
DTSTART:20260329T010000
END:DAYLIGHT
BEGIN:STANDARD
TZOFFSETFROM:+0200
TZOFFSETTO:+0100
TZNAME:CET
DTSTART:20261025T010000
END:STANDARD
BEGIN:DAYLIGHT
TZOFFSETFROM:+0100
TZOFFSETTO:+0200
TZNAME:CEST
DTSTART:20270328T010000
END:DAYLIGHT
BEGIN:STANDARD
TZOFFSETFROM:+0200
TZOFFSETTO:+0100
TZNAME:CET
DTSTART:20271031T010000
END:STANDARD
END:VTIMEZONE
BEGIN:VEVENT
DTSTART;TZID=Europe/Luxembourg:20260325T183000
DTEND;TZID=Europe/Luxembourg:20260325T183000
DTSTAMP:20260425T013532
CREATED:20260312T091309Z
LAST-MODIFIED:20260312T092548Z
UID:6693-1774463400-1774463400@nvl.lu
SUMMARY:BITTERBALLEN BORREL 25/3
DESCRIPTION:De lente is op komst en dus is het weer tijd voor een bitterballen borrel! \nDeze keer zonder sponsor\, maar natuurlijk wel met bitterballen! \nVoor het eerst sinds de herstart in 2022 is er deze keer geen sponsor voor de drankjes. Er zullen wel bitterballen zijn\, maar eenieder zal zelf zijn drank moeten afrekenen.\nOndanks het ontbreken van een sponsor\, hoopt Leon op een grote opkomst! \nlet op: Aanmelding is niet nodig. \nDit delen:\n				Share op Facebook (Opent in een nieuw venster)\n				Facebook\n			\n				Delen op WhatsApp (Opent in een nieuw venster)\n				WhatsApp\n			\n				Delen op X (Opent in een nieuw venster)\n				X\n			\n				E-mail een link naar een vriend (Opent in een nieuw venster)\n				E-mail\n			\n				Delen op LinkedIn (Opent in een nieuw venster)\n				LinkedIn\n			\n				Delen op Telegram (Opent in een nieuw venster)\n				Telegram\n			\n				Delen op Pinterest (Opent in een nieuw venster)\n				Pinterest\n			Vind ik leuk:Vind-ik-leuk Aan het laden...\n\n	Gerelateerd
URL:https://nvl.lu/evenement/bitterballen-borrel-25-3/
LOCATION:Oscar’s Bar\, 9\, Bisserweg\, Luxemburg Stad\, Grund\, L-1238\, Luxemburg
CATEGORIES:Extern
ATTACH;FMTTYPE=image/jpeg:https://nvl.lu/wp-content/uploads/2026/03/bitterballen.jpg
END:VEVENT
END:VCALENDAR