BEGIN:VCALENDAR
VERSION:2.0
PRODID:-//Nederlandse Vereniging Luxemburg - ECPv5.8.1//NONSGML v1.0//EN
CALSCALE:GREGORIAN
METHOD:PUBLISH
X-WR-CALNAME:Nederlandse Vereniging Luxemburg
X-ORIGINAL-URL:https://nvl.lu
X-WR-CALDESC:Evenementen voor Nederlandse Vereniging Luxemburg
BEGIN:VTIMEZONE
TZID:Europe/Luxembourg
BEGIN:DAYLIGHT
TZOFFSETFROM:+0100
TZOFFSETTO:+0200
TZNAME:CEST
DTSTART:20200329T010000
END:DAYLIGHT
BEGIN:STANDARD
TZOFFSETFROM:+0200
TZOFFSETTO:+0100
TZNAME:CET
DTSTART:20201025T010000
END:STANDARD
END:VTIMEZONE
BEGIN:VEVENT
DTSTART;TZID=Europe/Luxembourg:20200225T210000
DTEND;TZID=Europe/Luxembourg:20200225T230000
DTSTAMP:20210723T111528
CREATED:20191115T171707Z
LAST-MODIFIED:20200217T174449Z
UID:4545-1582664400-1582671600@nvl.lu
SUMMARY:Algemene Leden Vergadering 2020
DESCRIPTION:Uitnodiging Algemene Ledenvergadering \nLuxemburg\, 10 februari 2020 \nBeste leden\, \nHierbij ontvangt u de agenda voor de Algemene Ledenvergadering welke plaatsvindt op dinsdag 25 februari aanstaande om 20.00 uur in het Park-Inn Hotel\, Avenue de la Gare 45-47\, 1611 Luxemburg. \nHet financiële verslag en de jaarrekening 2019 zijn op aanvraag via contact@nvl.lu verkrijgbaar\, evenals de notulen van de vorige ALV. \nNa afloop wordt u zoals gebruikelijk nog een drankje aangeboden. \nWij zien u graag terug op 25 februari 2020. \nMet hartelijke groeten\, \nHet Bestuur \nAgenda \n1. Opening Algemene Ledenvergadering door de Voorzitter \n2. Verzoek tot goedkeuring agenda ALV 2020 \n3. Verzoek tot goedkeuring notulen ALV 2019 \n4. Ingekomen stukken \n5. Verslag van de Penningmeester \n6. Verslag van de Kascommissie en kwijting \n7. Begroting 2020 \n8. Jaarverslag van de Voorzitter \n9. Wijziging bestuur \n10. Benoeming van de Kascommissie \n11. Rondvraag \n12. Sluiting \n\n\n	Gerelateerd
URL:https://nvl.lu/evenement/algemene-leden-vergadering-2020/
LOCATION:Park Inn by Radisson\, Avenue de la Gare 45-47\, Luxembourg City\, 1611\, Luxemburg
CATEGORIES:NVL
ATTACH;FMTTYPE=image/jpeg:https://nvl.lu/wp-content/uploads/2017/01/ledenvergadering_800x400.jpg
END:VEVENT
END:VCALENDAR